BEGIN:VCALENDAR
VERSION:2.0
PRODID:-//West Ripley Baptist Church - ECPv6.15.20//NONSGML v1.0//EN
CALSCALE:GREGORIAN
METHOD:PUBLISH
X-WR-CALNAME:West Ripley Baptist Church
X-ORIGINAL-URL:https://welcome2wrbc.com
X-WR-CALDESC:Events for West Ripley Baptist Church
REFRESH-INTERVAL;VALUE=DURATION:PT1H
X-Robots-Tag:noindex
X-PUBLISHED-TTL:PT1H
BEGIN:VTIMEZONE
TZID:America/New_York
BEGIN:DAYLIGHT
TZOFFSETFROM:-0500
TZOFFSETTO:-0400
TZNAME:EDT
DTSTART:20250309T070000
END:DAYLIGHT
BEGIN:STANDARD
TZOFFSETFROM:-0400
TZOFFSETTO:-0500
TZNAME:EST
DTSTART:20251102T060000
END:STANDARD
BEGIN:DAYLIGHT
TZOFFSETFROM:-0500
TZOFFSETTO:-0400
TZNAME:EDT
DTSTART:20260308T070000
END:DAYLIGHT
BEGIN:STANDARD
TZOFFSETFROM:-0400
TZOFFSETTO:-0500
TZNAME:EST
DTSTART:20261101T060000
END:STANDARD
BEGIN:DAYLIGHT
TZOFFSETFROM:-0500
TZOFFSETTO:-0400
TZNAME:EDT
DTSTART:20270314T070000
END:DAYLIGHT
BEGIN:STANDARD
TZOFFSETFROM:-0400
TZOFFSETTO:-0500
TZNAME:EST
DTSTART:20271107T060000
END:STANDARD
END:VTIMEZONE
BEGIN:VEVENT
DTSTART;TZID=America/New_York:20260422T183000
DTEND;TZID=America/New_York:20260422T200000
DTSTAMP:20260419T171650
CREATED:20210701T220943Z
LAST-MODIFIED:20250514T202658Z
UID:10028130-1776882600-1776888000@welcome2wrbc.com
SUMMARY:Men's Ministry Group
DESCRIPTION:Join us as our Men’s Ministry Group gathers on Wednesday  evenings at 6:30PM for a time of prayer\, study\, discipleship\, and fellowship. We are currently reading and discussing the book\, “The Case For The Creator.”
URL:https://welcome2wrbc.com/event/mens-ministry-group-2-2023-07-12/
LOCATION:West Ripley Baptist Church\, 611 West Main St\, Ripley\, WV\, 25271\, United States
ATTACH;FMTTYPE=image/jpeg:https://welcome2wrbc.com/wp-content/uploads/2018/10/Church-Logo2.jpg
END:VEVENT
BEGIN:VEVENT
DTSTART;TZID=America/New_York:20260422T183000
DTEND;TZID=America/New_York:20260422T200000
DTSTAMP:20260419T171650
CREATED:20210701T220943Z
LAST-MODIFIED:20250514T202653Z
UID:10010270-1776882600-1776888000@welcome2wrbc.com
SUMMARY:Men's Ministry Group
DESCRIPTION:Join us as our Men’s Ministry Group gathers on Wednesday  evenings at 6:30PM for a time of prayer\, study\, discipleship\, and fellowship. We are currently reading and discussing the book\, “The Case For The Creator.”
URL:https://welcome2wrbc.com/event/mens-ministry-group-2-2022-08-17/
LOCATION:West Ripley Baptist Church\, 611 West Main St\, Ripley\, WV\, 25271\, United States
ATTACH;FMTTYPE=image/jpeg:https://welcome2wrbc.com/wp-content/uploads/2018/10/Church-Logo2.jpg
END:VEVENT
BEGIN:VEVENT
DTSTART;TZID=America/New_York:20260422T183000
DTEND;TZID=America/New_York:20260422T200000
DTSTAMP:20260419T171650
CREATED:20210701T220943Z
LAST-MODIFIED:20250514T202656Z
UID:10022670-1776882600-1776888000@welcome2wrbc.com
SUMMARY:Men's Ministry Group
DESCRIPTION:Join us as our Men’s Ministry Group gathers on Wednesday  evenings at 6:30PM for a time of prayer\, study\, discipleship\, and fellowship. We are currently reading and discussing the book\, “The Case For The Creator.”
URL:https://welcome2wrbc.com/event/mens-ministry-group-2-2023-03-29/
LOCATION:West Ripley Baptist Church\, 611 West Main St\, Ripley\, WV\, 25271\, United States
ATTACH;FMTTYPE=image/jpeg:https://welcome2wrbc.com/wp-content/uploads/2018/10/Church-Logo2.jpg
END:VEVENT
BEGIN:VEVENT
DTSTART;TZID=America/New_York:20260422T183000
DTEND;TZID=America/New_York:20260422T200000
DTSTAMP:20260419T171650
CREATED:20210701T220943Z
LAST-MODIFIED:20250514T205703Z
UID:10041906-1776882600-1776888000@welcome2wrbc.com
SUMMARY:Men's Ministry Group
DESCRIPTION:Join us as our Men’s Ministry Group gathers on Wednesday  evenings at 6:30PM for a time of prayer\, study\, discipleship\, and fellowship. We are currently reading and discussing the book\, “The Case For The Creator.”
URL:https://welcome2wrbc.com/event/mens-ministry-group-2-2024-04-24/
LOCATION:West Ripley Baptist Church\, 611 West Main St\, Ripley\, WV\, 25271\, United States
ATTACH;FMTTYPE=image/jpeg:https://welcome2wrbc.com/wp-content/uploads/2018/10/Church-Logo2.jpg
END:VEVENT
BEGIN:VEVENT
DTSTART;TZID=America/New_York:20260422T183000
DTEND;TZID=America/New_York:20260422T200000
DTSTAMP:20260419T171650
CREATED:20210701T220943Z
LAST-MODIFIED:20250514T202659Z
UID:10031645-1776882600-1776888000@welcome2wrbc.com
SUMMARY:Men's Ministry Group
DESCRIPTION:Join us as our Men’s Ministry Group gathers on Wednesday  evenings at 6:30PM for a time of prayer\, study\, discipleship\, and fellowship. We are currently reading and discussing the book\, “The Case For The Creator.”
URL:https://welcome2wrbc.com/event/mens-ministry-group-2-2023-09-20/
LOCATION:West Ripley Baptist Church\, 611 West Main St\, Ripley\, WV\, 25271\, United States
ATTACH;FMTTYPE=image/jpeg:https://welcome2wrbc.com/wp-content/uploads/2018/10/Church-Logo2.jpg
END:VEVENT
BEGIN:VEVENT
DTSTART;TZID=America/New_York:20260422T183000
DTEND;TZID=America/New_York:20260422T200000
DTSTAMP:20260419T171650
CREATED:20210701T220943Z
LAST-MODIFIED:20250514T202654Z
UID:10015040-1776882600-1776888000@welcome2wrbc.com
SUMMARY:Men's Ministry Group
DESCRIPTION:Join us as our Men’s Ministry Group gathers on Wednesday  evenings at 6:30PM for a time of prayer\, study\, discipleship\, and fellowship. We are currently reading and discussing the book\, “The Case For The Creator.”
URL:https://welcome2wrbc.com/event/mens-ministry-group-2-2022-11-09/
LOCATION:West Ripley Baptist Church\, 611 West Main St\, Ripley\, WV\, 25271\, United States
ATTACH;FMTTYPE=image/jpeg:https://welcome2wrbc.com/wp-content/uploads/2018/10/Church-Logo2.jpg
END:VEVENT
BEGIN:VEVENT
DTSTART;TZID=America/New_York:20260422T183000
DTEND;TZID=America/New_York:20260422T200000
DTSTAMP:20260419T171650
CREATED:20210701T220943Z
LAST-MODIFIED:20250514T202700Z
UID:10035060-1776882600-1776888000@welcome2wrbc.com
SUMMARY:Men's Ministry Group
DESCRIPTION:Join us as our Men’s Ministry Group gathers on Wednesday  evenings at 6:30PM for a time of prayer\, study\, discipleship\, and fellowship. We are currently reading and discussing the book\, “The Case For The Creator.”
URL:https://welcome2wrbc.com/event/mens-ministry-group-2-2023-11-29/
LOCATION:West Ripley Baptist Church\, 611 West Main St\, Ripley\, WV\, 25271\, United States
ATTACH;FMTTYPE=image/jpeg:https://welcome2wrbc.com/wp-content/uploads/2018/10/Church-Logo2.jpg
END:VEVENT
BEGIN:VEVENT
DTSTART;TZID=America/New_York:20260422T183000
DTEND;TZID=America/New_York:20260422T200000
DTSTAMP:20260419T171650
CREATED:20210701T220943Z
LAST-MODIFIED:20250514T202652Z
UID:10009055-1776882600-1776888000@welcome2wrbc.com
SUMMARY:Men's Ministry Group
DESCRIPTION:Join us as our Men’s Ministry Group gathers on Wednesday  evenings at 6:30PM for a time of prayer\, study\, discipleship\, and fellowship. We are currently reading and discussing the book\, “The Case For The Creator.”
URL:https://welcome2wrbc.com/event/mens-ministry-group-2-2022-07-27/
LOCATION:West Ripley Baptist Church\, 611 West Main St\, Ripley\, WV\, 25271\, United States
ATTACH;FMTTYPE=image/jpeg:https://welcome2wrbc.com/wp-content/uploads/2018/10/Church-Logo2.jpg
END:VEVENT
BEGIN:VEVENT
DTSTART;TZID=America/New_York:20260422T183000
DTEND;TZID=America/New_York:20260422T200000
DTSTAMP:20260419T171650
CREATED:20210701T220943Z
LAST-MODIFIED:20250514T202656Z
UID:10021551-1776882600-1776888000@welcome2wrbc.com
SUMMARY:Men's Ministry Group
DESCRIPTION:Join us as our Men’s Ministry Group gathers on Wednesday  evenings at 6:30PM for a time of prayer\, study\, discipleship\, and fellowship. We are currently reading and discussing the book\, “The Case For The Creator.”
URL:https://welcome2wrbc.com/event/mens-ministry-group-2-2023-03-08/
LOCATION:West Ripley Baptist Church\, 611 West Main St\, Ripley\, WV\, 25271\, United States
ATTACH;FMTTYPE=image/jpeg:https://welcome2wrbc.com/wp-content/uploads/2018/10/Church-Logo2.jpg
END:VEVENT
BEGIN:VEVENT
DTSTART;TZID=America/New_York:20260422T183000
DTEND;TZID=America/New_York:20260422T200000
DTSTAMP:20260419T171650
CREATED:20210701T220943Z
LAST-MODIFIED:20250514T202655Z
UID:10018905-1776882600-1776888000@welcome2wrbc.com
SUMMARY:Men's Ministry Group
DESCRIPTION:Join us as our Men’s Ministry Group gathers on Wednesday  evenings at 6:30PM for a time of prayer\, study\, discipleship\, and fellowship. We are currently reading and discussing the book\, “The Case For The Creator.”
URL:https://welcome2wrbc.com/event/mens-ministry-group-2-2023-01-18/
LOCATION:West Ripley Baptist Church\, 611 West Main St\, Ripley\, WV\, 25271\, United States
ATTACH;FMTTYPE=image/jpeg:https://welcome2wrbc.com/wp-content/uploads/2018/10/Church-Logo2.jpg
END:VEVENT
BEGIN:VEVENT
DTSTART;TZID=America/New_York:20260422T183000
DTEND;TZID=America/New_York:20260422T200000
DTSTAMP:20260419T171650
CREATED:20210701T220943Z
LAST-MODIFIED:20250514T202700Z
UID:10033365-1776882600-1776888000@welcome2wrbc.com
SUMMARY:Men's Ministry Group
DESCRIPTION:Join us as our Men’s Ministry Group gathers on Wednesday  evenings at 6:30PM for a time of prayer\, study\, discipleship\, and fellowship. We are currently reading and discussing the book\, “The Case For The Creator.”
URL:https://welcome2wrbc.com/event/mens-ministry-group-2-2023-10-25/
LOCATION:West Ripley Baptist Church\, 611 West Main St\, Ripley\, WV\, 25271\, United States
ATTACH;FMTTYPE=image/jpeg:https://welcome2wrbc.com/wp-content/uploads/2018/10/Church-Logo2.jpg
END:VEVENT
BEGIN:VEVENT
DTSTART;TZID=America/New_York:20260422T183000
DTEND;TZID=America/New_York:20260422T200000
DTSTAMP:20260419T171650
CREATED:20210701T220943Z
LAST-MODIFIED:20250514T202651Z
UID:10003686-1776882600-1776888000@welcome2wrbc.com
SUMMARY:Men's Ministry Group
DESCRIPTION:Join us as our Men’s Ministry Group gathers on Wednesday  evenings at 6:30PM for a time of prayer\, study\, discipleship\, and fellowship. We are currently reading and discussing the book\, “The Case For The Creator.”
URL:https://welcome2wrbc.com/event/mens-ministry-group-2-2022-04-27/
LOCATION:West Ripley Baptist Church\, 611 West Main St\, Ripley\, WV\, 25271\, United States
ATTACH;FMTTYPE=image/jpeg:https://welcome2wrbc.com/wp-content/uploads/2018/10/Church-Logo2.jpg
END:VEVENT
BEGIN:VEVENT
DTSTART;TZID=America/New_York:20260422T183000
DTEND;TZID=America/New_York:20260422T200000
DTSTAMP:20260419T171650
CREATED:20210701T220943Z
LAST-MODIFIED:20250514T202657Z
UID:10025246-1776882600-1776888000@welcome2wrbc.com
SUMMARY:Men's Ministry Group
DESCRIPTION:Join us as our Men’s Ministry Group gathers on Wednesday  evenings at 6:30PM for a time of prayer\, study\, discipleship\, and fellowship. We are currently reading and discussing the book\, “The Case For The Creator.”
URL:https://welcome2wrbc.com/event/mens-ministry-group-2-2023-05-17/
LOCATION:West Ripley Baptist Church\, 611 West Main St\, Ripley\, WV\, 25271\, United States
ATTACH;FMTTYPE=image/jpeg:https://welcome2wrbc.com/wp-content/uploads/2018/10/Church-Logo2.jpg
END:VEVENT
BEGIN:VEVENT
DTSTART;TZID=America/New_York:20260422T183000
DTEND;TZID=America/New_York:20260422T200000
DTSTAMP:20260419T171650
CREATED:20210701T220943Z
LAST-MODIFIED:20250514T202652Z
UID:10007010-1776882600-1776888000@welcome2wrbc.com
SUMMARY:Men's Ministry Group
DESCRIPTION:Join us as our Men’s Ministry Group gathers on Wednesday  evenings at 6:30PM for a time of prayer\, study\, discipleship\, and fellowship. We are currently reading and discussing the book\, “The Case For The Creator.”
URL:https://welcome2wrbc.com/event/mens-ministry-group-2-2022-06-22/
LOCATION:West Ripley Baptist Church\, 611 West Main St\, Ripley\, WV\, 25271\, United States
ATTACH;FMTTYPE=image/jpeg:https://welcome2wrbc.com/wp-content/uploads/2018/10/Church-Logo2.jpg
END:VEVENT
BEGIN:VEVENT
DTSTART;TZID=America/New_York:20260422T183000
DTEND;TZID=America/New_York:20260422T200000
DTSTAMP:20260419T171650
CREATED:20210701T220943Z
LAST-MODIFIED:20250514T212705Z
UID:10044090-1776882600-1776888000@welcome2wrbc.com
SUMMARY:Men's Ministry Group
DESCRIPTION:Join us as our Men’s Ministry Group gathers on Wednesday  evenings at 6:30PM for a time of prayer\, study\, discipleship\, and fellowship. We are currently reading and discussing the book\, “The Case For The Creator.”
URL:https://welcome2wrbc.com/event/mens-ministry-group-2-2024-06-12/
LOCATION:West Ripley Baptist Church\, 611 West Main St\, Ripley\, WV\, 25271\, United States
ATTACH;FMTTYPE=image/jpeg:https://welcome2wrbc.com/wp-content/uploads/2018/10/Church-Logo2.jpg
END:VEVENT
BEGIN:VEVENT
DTSTART;TZID=America/New_York:20260422T183000
DTEND;TZID=America/New_York:20260422T200000
DTSTAMP:20260419T171650
CREATED:20210701T220943Z
LAST-MODIFIED:20250514T202655Z
UID:10016985-1776882600-1776888000@welcome2wrbc.com
SUMMARY:Men's Ministry Group
DESCRIPTION:Join us as our Men’s Ministry Group gathers on Wednesday  evenings at 6:30PM for a time of prayer\, study\, discipleship\, and fellowship. We are currently reading and discussing the book\, “The Case For The Creator.”
URL:https://welcome2wrbc.com/event/mens-ministry-group-2-2022-12-14/
LOCATION:West Ripley Baptist Church\, 611 West Main St\, Ripley\, WV\, 25271\, United States
ATTACH;FMTTYPE=image/jpeg:https://welcome2wrbc.com/wp-content/uploads/2018/10/Church-Logo2.jpg
END:VEVENT
BEGIN:VEVENT
DTSTART;TZID=America/New_York:20260422T183000
DTEND;TZID=America/New_York:20260422T200000
DTSTAMP:20260419T171650
CREATED:20210701T220943Z
LAST-MODIFIED:20250514T202701Z
UID:10036730-1776882600-1776888000@welcome2wrbc.com
SUMMARY:Men's Ministry Group
DESCRIPTION:Join us as our Men’s Ministry Group gathers on Wednesday  evenings at 6:30PM for a time of prayer\, study\, discipleship\, and fellowship. We are currently reading and discussing the book\, “The Case For The Creator.”
URL:https://welcome2wrbc.com/event/mens-ministry-group-2-2024-01-03/
LOCATION:West Ripley Baptist Church\, 611 West Main St\, Ripley\, WV\, 25271\, United States
ATTACH;FMTTYPE=image/jpeg:https://welcome2wrbc.com/wp-content/uploads/2018/10/Church-Logo2.jpg
END:VEVENT
BEGIN:VEVENT
DTSTART;TZID=America/New_York:20260422T183000
DTEND;TZID=America/New_York:20260422T200000
DTSTAMP:20260419T171650
CREATED:20210701T220943Z
LAST-MODIFIED:20250514T202702Z
UID:10039350-1776882600-1776888000@welcome2wrbc.com
SUMMARY:Men's Ministry Group
DESCRIPTION:Join us as our Men’s Ministry Group gathers on Wednesday  evenings at 6:30PM for a time of prayer\, study\, discipleship\, and fellowship. We are currently reading and discussing the book\, “The Case For The Creator.”
URL:https://welcome2wrbc.com/event/mens-ministry-group-2-2024-02-28/
LOCATION:West Ripley Baptist Church\, 611 West Main St\, Ripley\, WV\, 25271\, United States
ATTACH;FMTTYPE=image/jpeg:https://welcome2wrbc.com/wp-content/uploads/2018/10/Church-Logo2.jpg
END:VEVENT
BEGIN:VEVENT
DTSTART;TZID=America/New_York:20260422T183000
DTEND;TZID=America/New_York:20260422T200000
DTSTAMP:20260419T171650
CREATED:20210701T220943Z
LAST-MODIFIED:20250514T202653Z
UID:10011075-1776882600-1776888000@welcome2wrbc.com
SUMMARY:Men's Ministry Group
DESCRIPTION:Join us as our Men’s Ministry Group gathers on Wednesday  evenings at 6:30PM for a time of prayer\, study\, discipleship\, and fellowship. We are currently reading and discussing the book\, “The Case For The Creator.”
URL:https://welcome2wrbc.com/event/mens-ministry-group-2-2022-08-31/
LOCATION:West Ripley Baptist Church\, 611 West Main St\, Ripley\, WV\, 25271\, United States
ATTACH;FMTTYPE=image/jpeg:https://welcome2wrbc.com/wp-content/uploads/2018/10/Church-Logo2.jpg
END:VEVENT
BEGIN:VEVENT
DTSTART;TZID=America/New_York:20260422T183000
DTEND;TZID=America/New_York:20260422T200000
DTSTAMP:20260419T171650
CREATED:20210701T220943Z
LAST-MODIFIED:20250514T202655Z
UID:10017756-1776882600-1776888000@welcome2wrbc.com
SUMMARY:Men's Ministry Group
DESCRIPTION:Join us as our Men’s Ministry Group gathers on Wednesday  evenings at 6:30PM for a time of prayer\, study\, discipleship\, and fellowship. We are currently reading and discussing the book\, “The Case For The Creator.”
URL:https://welcome2wrbc.com/event/mens-ministry-group-2-2022-12-28/
LOCATION:West Ripley Baptist Church\, 611 West Main St\, Ripley\, WV\, 25271\, United States
ATTACH;FMTTYPE=image/jpeg:https://welcome2wrbc.com/wp-content/uploads/2018/10/Church-Logo2.jpg
END:VEVENT
BEGIN:VEVENT
DTSTART;TZID=America/New_York:20260422T183000
DTEND;TZID=America/New_York:20260422T200000
DTSTAMP:20260419T171650
CREATED:20210701T220943Z
LAST-MODIFIED:20250514T205704Z
UID:10042535-1776882600-1776888000@welcome2wrbc.com
SUMMARY:Men's Ministry Group
DESCRIPTION:Join us as our Men’s Ministry Group gathers on Wednesday  evenings at 6:30PM for a time of prayer\, study\, discipleship\, and fellowship. We are currently reading and discussing the book\, “The Case For The Creator.”
URL:https://welcome2wrbc.com/event/mens-ministry-group-2-2024-05-08/
LOCATION:West Ripley Baptist Church\, 611 West Main St\, Ripley\, WV\, 25271\, United States
ATTACH;FMTTYPE=image/jpeg:https://welcome2wrbc.com/wp-content/uploads/2018/10/Church-Logo2.jpg
END:VEVENT
BEGIN:VEVENT
DTSTART;TZID=America/New_York:20260422T183000
DTEND;TZID=America/New_York:20260422T200000
DTSTAMP:20260419T171650
CREATED:20210701T220943Z
LAST-MODIFIED:20250514T202653Z
UID:10011876-1776882600-1776888000@welcome2wrbc.com
SUMMARY:Men's Ministry Group
DESCRIPTION:Join us as our Men’s Ministry Group gathers on Wednesday  evenings at 6:30PM for a time of prayer\, study\, discipleship\, and fellowship. We are currently reading and discussing the book\, “The Case For The Creator.”
URL:https://welcome2wrbc.com/event/mens-ministry-group-2-2022-09-14/
LOCATION:West Ripley Baptist Church\, 611 West Main St\, Ripley\, WV\, 25271\, United States
ATTACH;FMTTYPE=image/jpeg:https://welcome2wrbc.com/wp-content/uploads/2018/10/Church-Logo2.jpg
END:VEVENT
BEGIN:VEVENT
DTSTART;TZID=America/New_York:20260422T183000
DTEND;TZID=America/New_York:20260422T200000
DTSTAMP:20260419T171650
CREATED:20210701T220943Z
LAST-MODIFIED:20250514T202659Z
UID:10032336-1776882600-1776888000@welcome2wrbc.com
SUMMARY:Men's Ministry Group
DESCRIPTION:Join us as our Men’s Ministry Group gathers on Wednesday  evenings at 6:30PM for a time of prayer\, study\, discipleship\, and fellowship. We are currently reading and discussing the book\, “The Case For The Creator.”
URL:https://welcome2wrbc.com/event/mens-ministry-group-2-2023-10-04/
LOCATION:West Ripley Baptist Church\, 611 West Main St\, Ripley\, WV\, 25271\, United States
ATTACH;FMTTYPE=image/jpeg:https://welcome2wrbc.com/wp-content/uploads/2018/10/Church-Logo2.jpg
END:VEVENT
BEGIN:VEVENT
DTSTART;TZID=America/New_York:20260422T183000
DTEND;TZID=America/New_York:20260422T200000
DTSTAMP:20260419T171650
CREATED:20210701T220943Z
LAST-MODIFIED:20250514T202651Z
UID:10005771-1776882600-1776888000@welcome2wrbc.com
SUMMARY:Men's Ministry Group
DESCRIPTION:Join us as our Men’s Ministry Group gathers on Wednesday  evenings at 6:30PM for a time of prayer\, study\, discipleship\, and fellowship. We are currently reading and discussing the book\, “The Case For The Creator.”
URL:https://welcome2wrbc.com/event/mens-ministry-group-2-2022-06-01/
LOCATION:West Ripley Baptist Church\, 611 West Main St\, Ripley\, WV\, 25271\, United States
ATTACH;FMTTYPE=image/jpeg:https://welcome2wrbc.com/wp-content/uploads/2018/10/Church-Logo2.jpg
END:VEVENT
BEGIN:VEVENT
DTSTART;TZID=America/New_York:20260422T183000
DTEND;TZID=America/New_York:20260422T200000
DTSTAMP:20260419T171650
CREATED:20210701T220943Z
LAST-MODIFIED:20250514T202658Z
UID:10027056-1776882600-1776888000@welcome2wrbc.com
SUMMARY:Men's Ministry Group
DESCRIPTION:Join us as our Men’s Ministry Group gathers on Wednesday  evenings at 6:30PM for a time of prayer\, study\, discipleship\, and fellowship. We are currently reading and discussing the book\, “The Case For The Creator.”
URL:https://welcome2wrbc.com/event/mens-ministry-group-2-2023-06-21/
LOCATION:West Ripley Baptist Church\, 611 West Main St\, Ripley\, WV\, 25271\, United States
ATTACH;FMTTYPE=image/jpeg:https://welcome2wrbc.com/wp-content/uploads/2018/10/Church-Logo2.jpg
END:VEVENT
BEGIN:VEVENT
DTSTART;TZID=America/New_York:20260422T183000
DTEND;TZID=America/New_York:20260422T200000
DTSTAMP:20260419T171650
CREATED:20210701T220943Z
LAST-MODIFIED:20250514T202654Z
UID:10015821-1776882600-1776888000@welcome2wrbc.com
SUMMARY:Men's Ministry Group
DESCRIPTION:Join us as our Men’s Ministry Group gathers on Wednesday  evenings at 6:30PM for a time of prayer\, study\, discipleship\, and fellowship. We are currently reading and discussing the book\, “The Case For The Creator.”
URL:https://welcome2wrbc.com/event/mens-ministry-group-2-2022-11-23/
LOCATION:West Ripley Baptist Church\, 611 West Main St\, Ripley\, WV\, 25271\, United States
ATTACH;FMTTYPE=image/jpeg:https://welcome2wrbc.com/wp-content/uploads/2018/10/Church-Logo2.jpg
END:VEVENT
BEGIN:VEVENT
DTSTART;TZID=America/New_York:20260422T183000
DTEND;TZID=America/New_York:20260422T200000
DTSTAMP:20260419T171650
CREATED:20210701T220943Z
LAST-MODIFIED:20250514T202702Z
UID:10038375-1776882600-1776888000@welcome2wrbc.com
SUMMARY:Men's Ministry Group
DESCRIPTION:Join us as our Men’s Ministry Group gathers on Wednesday  evenings at 6:30PM for a time of prayer\, study\, discipleship\, and fellowship. We are currently reading and discussing the book\, “The Case For The Creator.”
URL:https://welcome2wrbc.com/event/mens-ministry-group-2-2024-02-07/
LOCATION:West Ripley Baptist Church\, 611 West Main St\, Ripley\, WV\, 25271\, United States
ATTACH;FMTTYPE=image/jpeg:https://welcome2wrbc.com/wp-content/uploads/2018/10/Church-Logo2.jpg
END:VEVENT
BEGIN:VEVENT
DTSTART;TZID=America/New_York:20260422T183000
DTEND;TZID=America/New_York:20260422T200000
DTSTAMP:20260419T171650
CREATED:20210701T220943Z
LAST-MODIFIED:20250514T205703Z
UID:10040955-1776882600-1776888000@welcome2wrbc.com
SUMMARY:Men's Ministry Group
DESCRIPTION:Join us as our Men’s Ministry Group gathers on Wednesday  evenings at 6:30PM for a time of prayer\, study\, discipleship\, and fellowship. We are currently reading and discussing the book\, “The Case For The Creator.”
URL:https://welcome2wrbc.com/event/mens-ministry-group-2-2024-04-03/
LOCATION:West Ripley Baptist Church\, 611 West Main St\, Ripley\, WV\, 25271\, United States
ATTACH;FMTTYPE=image/jpeg:https://welcome2wrbc.com/wp-content/uploads/2018/10/Church-Logo2.jpg
END:VEVENT
BEGIN:VEVENT
DTSTART;TZID=America/New_York:20260422T183000
DTEND;TZID=America/New_York:20260422T200000
DTSTAMP:20260419T171650
CREATED:20210701T220943Z
LAST-MODIFIED:20250514T202659Z
UID:10030601-1776882600-1776888000@welcome2wrbc.com
SUMMARY:Men's Ministry Group
DESCRIPTION:Join us as our Men’s Ministry Group gathers on Wednesday  evenings at 6:30PM for a time of prayer\, study\, discipleship\, and fellowship. We are currently reading and discussing the book\, “The Case For The Creator.”
URL:https://welcome2wrbc.com/event/mens-ministry-group-2-2023-08-30/
LOCATION:West Ripley Baptist Church\, 611 West Main St\, Ripley\, WV\, 25271\, United States
ATTACH;FMTTYPE=image/jpeg:https://welcome2wrbc.com/wp-content/uploads/2018/10/Church-Logo2.jpg
END:VEVENT
BEGIN:VEVENT
DTSTART;TZID=America/New_York:20260422T183000
DTEND;TZID=America/New_York:20260422T200000
DTSTAMP:20260419T171650
CREATED:20210701T220943Z
LAST-MODIFIED:20250514T202655Z
UID:10019666-1776882600-1776888000@welcome2wrbc.com
SUMMARY:Men's Ministry Group
DESCRIPTION:Join us as our Men’s Ministry Group gathers on Wednesday  evenings at 6:30PM for a time of prayer\, study\, discipleship\, and fellowship. We are currently reading and discussing the book\, “The Case For The Creator.”
URL:https://welcome2wrbc.com/event/mens-ministry-group-2-2023-02-01/
LOCATION:West Ripley Baptist Church\, 611 West Main St\, Ripley\, WV\, 25271\, United States
ATTACH;FMTTYPE=image/jpeg:https://welcome2wrbc.com/wp-content/uploads/2018/10/Church-Logo2.jpg
END:VEVENT
END:VCALENDAR