BEGIN:VCALENDAR
VERSION:2.0
PRODID:-//West Ripley Baptist Church - ECPv6.15.20//NONSGML v1.0//EN
CALSCALE:GREGORIAN
METHOD:PUBLISH
X-WR-CALNAME:West Ripley Baptist Church
X-ORIGINAL-URL:https://welcome2wrbc.com
X-WR-CALDESC:Events for West Ripley Baptist Church
REFRESH-INTERVAL;VALUE=DURATION:PT1H
X-Robots-Tag:noindex
X-PUBLISHED-TTL:PT1H
BEGIN:VTIMEZONE
TZID:America/New_York
BEGIN:DAYLIGHT
TZOFFSETFROM:-0500
TZOFFSETTO:-0400
TZNAME:EDT
DTSTART:20250309T070000
END:DAYLIGHT
BEGIN:STANDARD
TZOFFSETFROM:-0400
TZOFFSETTO:-0500
TZNAME:EST
DTSTART:20251102T060000
END:STANDARD
BEGIN:DAYLIGHT
TZOFFSETFROM:-0500
TZOFFSETTO:-0400
TZNAME:EDT
DTSTART:20260308T070000
END:DAYLIGHT
BEGIN:STANDARD
TZOFFSETFROM:-0400
TZOFFSETTO:-0500
TZNAME:EST
DTSTART:20261101T060000
END:STANDARD
BEGIN:DAYLIGHT
TZOFFSETFROM:-0500
TZOFFSETTO:-0400
TZNAME:EDT
DTSTART:20270314T070000
END:DAYLIGHT
BEGIN:STANDARD
TZOFFSETFROM:-0400
TZOFFSETTO:-0500
TZNAME:EST
DTSTART:20271107T060000
END:STANDARD
END:VTIMEZONE
BEGIN:VEVENT
DTSTART;TZID=America/New_York:20260513T183000
DTEND;TZID=America/New_York:20260513T200000
DTSTAMP:20260422T231754
CREATED:20210701T220943Z
LAST-MODIFIED:20250514T205703Z
UID:10039998-1778697000-1778702400@welcome2wrbc.com
SUMMARY:Men's Ministry Group
DESCRIPTION:Join us as our Men’s Ministry Group gathers on Wednesday  evenings at 6:30PM for a time of prayer\, study\, discipleship\, and fellowship. We are currently reading and discussing the book\, “The Case For The Creator.”
URL:https://welcome2wrbc.com/event/mens-ministry-group-2-2024-03-13/
LOCATION:West Ripley Baptist Church\, 611 West Main St\, Ripley\, WV\, 25271\, United States
ATTACH;FMTTYPE=image/jpeg:https://welcome2wrbc.com/wp-content/uploads/2018/10/Church-Logo2.jpg
END:VEVENT
BEGIN:VEVENT
DTSTART;TZID=America/New_York:20260513T183000
DTEND;TZID=America/New_York:20260513T200000
DTSTAMP:20260422T231754
CREATED:20210701T220943Z
LAST-MODIFIED:20250514T205704Z
UID:10042538-1778697000-1778702400@welcome2wrbc.com
SUMMARY:Men's Ministry Group
DESCRIPTION:Join us as our Men’s Ministry Group gathers on Wednesday  evenings at 6:30PM for a time of prayer\, study\, discipleship\, and fellowship. We are currently reading and discussing the book\, “The Case For The Creator.”
URL:https://welcome2wrbc.com/event/mens-ministry-group-2-2024-05-08/
LOCATION:West Ripley Baptist Church\, 611 West Main St\, Ripley\, WV\, 25271\, United States
ATTACH;FMTTYPE=image/jpeg:https://welcome2wrbc.com/wp-content/uploads/2018/10/Church-Logo2.jpg
END:VEVENT
BEGIN:VEVENT
DTSTART;TZID=America/New_York:20260513T183000
DTEND;TZID=America/New_York:20260513T200000
DTSTAMP:20260422T231754
CREATED:20210701T220943Z
LAST-MODIFIED:20250522T222704Z
UID:10045014-1778697000-1778702400@welcome2wrbc.com
SUMMARY:Men's Ministry Group
DESCRIPTION:Join us as our Men’s Ministry Group gathers on Wednesday  evenings at 6:30PM for a time of prayer\, study\, discipleship\, and fellowship. We are currently reading and discussing the book\, “The Case For The Creator.”
URL:https://welcome2wrbc.com/event/mens-ministry-group-2-2024-07-03/
LOCATION:West Ripley Baptist Church\, 611 West Main St\, Ripley\, WV\, 25271\, United States
ATTACH;FMTTYPE=image/jpeg:https://welcome2wrbc.com/wp-content/uploads/2018/10/Church-Logo2.jpg
END:VEVENT
BEGIN:VEVENT
DTSTART;TZID=America/New_York:20260513T183000
DTEND;TZID=America/New_York:20260513T200000
DTSTAMP:20260422T231754
CREATED:20210701T220943Z
LAST-MODIFIED:20250514T202651Z
UID:10005359-1778697000-1778702400@welcome2wrbc.com
SUMMARY:Men's Ministry Group
DESCRIPTION:Join us as our Men’s Ministry Group gathers on Wednesday  evenings at 6:30PM for a time of prayer\, study\, discipleship\, and fellowship. We are currently reading and discussing the book\, “The Case For The Creator.”
URL:https://welcome2wrbc.com/event/mens-ministry-group-2-2022-05-25/
LOCATION:West Ripley Baptist Church\, 611 West Main St\, Ripley\, WV\, 25271\, United States
ATTACH;FMTTYPE=image/jpeg:https://welcome2wrbc.com/wp-content/uploads/2018/10/Church-Logo2.jpg
END:VEVENT
BEGIN:VEVENT
DTSTART;TZID=America/New_York:20260513T183000
DTEND;TZID=America/New_York:20260513T200000
DTSTAMP:20260422T231754
CREATED:20210701T220943Z
LAST-MODIFIED:20250514T202652Z
UID:10008651-1778697000-1778702400@welcome2wrbc.com
SUMMARY:Men's Ministry Group
DESCRIPTION:Join us as our Men’s Ministry Group gathers on Wednesday  evenings at 6:30PM for a time of prayer\, study\, discipleship\, and fellowship. We are currently reading and discussing the book\, “The Case For The Creator.”
URL:https://welcome2wrbc.com/event/mens-ministry-group-2-2022-07-20/
LOCATION:West Ripley Baptist Church\, 611 West Main St\, Ripley\, WV\, 25271\, United States
ATTACH;FMTTYPE=image/jpeg:https://welcome2wrbc.com/wp-content/uploads/2018/10/Church-Logo2.jpg
END:VEVENT
BEGIN:VEVENT
DTSTART;TZID=America/New_York:20260513T183000
DTEND;TZID=America/New_York:20260513T200000
DTSTAMP:20260422T231754
CREATED:20210701T220943Z
LAST-MODIFIED:20250514T202653Z
UID:10011879-1778697000-1778702400@welcome2wrbc.com
SUMMARY:Men's Ministry Group
DESCRIPTION:Join us as our Men’s Ministry Group gathers on Wednesday  evenings at 6:30PM for a time of prayer\, study\, discipleship\, and fellowship. We are currently reading and discussing the book\, “The Case For The Creator.”
URL:https://welcome2wrbc.com/event/mens-ministry-group-2-2022-09-14/
LOCATION:West Ripley Baptist Church\, 611 West Main St\, Ripley\, WV\, 25271\, United States
ATTACH;FMTTYPE=image/jpeg:https://welcome2wrbc.com/wp-content/uploads/2018/10/Church-Logo2.jpg
END:VEVENT
BEGIN:VEVENT
DTSTART;TZID=America/New_York:20260513T183000
DTEND;TZID=America/New_York:20260513T200000
DTSTAMP:20260422T231754
CREATED:20210701T220943Z
LAST-MODIFIED:20250514T202654Z
UID:10015043-1778697000-1778702400@welcome2wrbc.com
SUMMARY:Men's Ministry Group
DESCRIPTION:Join us as our Men’s Ministry Group gathers on Wednesday  evenings at 6:30PM for a time of prayer\, study\, discipleship\, and fellowship. We are currently reading and discussing the book\, “The Case For The Creator.”
URL:https://welcome2wrbc.com/event/mens-ministry-group-2-2022-11-09/
LOCATION:West Ripley Baptist Church\, 611 West Main St\, Ripley\, WV\, 25271\, United States
ATTACH;FMTTYPE=image/jpeg:https://welcome2wrbc.com/wp-content/uploads/2018/10/Church-Logo2.jpg
END:VEVENT
BEGIN:VEVENT
DTSTART;TZID=America/New_York:20260513T183000
DTEND;TZID=America/New_York:20260513T200000
DTSTAMP:20260422T231754
CREATED:20210701T220943Z
LAST-MODIFIED:20250514T202655Z
UID:10018143-1778697000-1778702400@welcome2wrbc.com
SUMMARY:Men's Ministry Group
DESCRIPTION:Join us as our Men’s Ministry Group gathers on Wednesday  evenings at 6:30PM for a time of prayer\, study\, discipleship\, and fellowship. We are currently reading and discussing the book\, “The Case For The Creator.”
URL:https://welcome2wrbc.com/event/mens-ministry-group-2-2023-01-04/
LOCATION:West Ripley Baptist Church\, 611 West Main St\, Ripley\, WV\, 25271\, United States
ATTACH;FMTTYPE=image/jpeg:https://welcome2wrbc.com/wp-content/uploads/2018/10/Church-Logo2.jpg
END:VEVENT
BEGIN:VEVENT
DTSTART;TZID=America/New_York:20260513T183000
DTEND;TZID=America/New_York:20260513T200000
DTSTAMP:20260422T231754
CREATED:20210701T220943Z
LAST-MODIFIED:20250514T202656Z
UID:10021179-1778697000-1778702400@welcome2wrbc.com
SUMMARY:Men's Ministry Group
DESCRIPTION:Join us as our Men’s Ministry Group gathers on Wednesday  evenings at 6:30PM for a time of prayer\, study\, discipleship\, and fellowship. We are currently reading and discussing the book\, “The Case For The Creator.”
URL:https://welcome2wrbc.com/event/mens-ministry-group-2-2023-03-01/
LOCATION:West Ripley Baptist Church\, 611 West Main St\, Ripley\, WV\, 25271\, United States
ATTACH;FMTTYPE=image/jpeg:https://welcome2wrbc.com/wp-content/uploads/2018/10/Church-Logo2.jpg
END:VEVENT
BEGIN:VEVENT
DTSTART;TZID=America/New_York:20260513T183000
DTEND;TZID=America/New_York:20260513T200000
DTSTAMP:20260422T231754
CREATED:20210701T220943Z
LAST-MODIFIED:20250514T202657Z
UID:10024151-1778697000-1778702400@welcome2wrbc.com
SUMMARY:Men's Ministry Group
DESCRIPTION:Join us as our Men’s Ministry Group gathers on Wednesday  evenings at 6:30PM for a time of prayer\, study\, discipleship\, and fellowship. We are currently reading and discussing the book\, “The Case For The Creator.”
URL:https://welcome2wrbc.com/event/mens-ministry-group-2-2023-04-26/
LOCATION:West Ripley Baptist Church\, 611 West Main St\, Ripley\, WV\, 25271\, United States
ATTACH;FMTTYPE=image/jpeg:https://welcome2wrbc.com/wp-content/uploads/2018/10/Church-Logo2.jpg
END:VEVENT
BEGIN:VEVENT
DTSTART;TZID=America/New_York:20260513T183000
DTEND;TZID=America/New_York:20260513T200000
DTSTAMP:20260422T231754
CREATED:20210701T220943Z
LAST-MODIFIED:20250514T202658Z
UID:10027059-1778697000-1778702400@welcome2wrbc.com
SUMMARY:Men's Ministry Group
DESCRIPTION:Join us as our Men’s Ministry Group gathers on Wednesday  evenings at 6:30PM for a time of prayer\, study\, discipleship\, and fellowship. We are currently reading and discussing the book\, “The Case For The Creator.”
URL:https://welcome2wrbc.com/event/mens-ministry-group-2-2023-06-21/
LOCATION:West Ripley Baptist Church\, 611 West Main St\, Ripley\, WV\, 25271\, United States
ATTACH;FMTTYPE=image/jpeg:https://welcome2wrbc.com/wp-content/uploads/2018/10/Church-Logo2.jpg
END:VEVENT
BEGIN:VEVENT
DTSTART;TZID=America/New_York:20260513T183000
DTEND;TZID=America/New_York:20260513T200000
DTSTAMP:20260422T231754
CREATED:20210701T220943Z
LAST-MODIFIED:20250514T202659Z
UID:10029903-1778697000-1778702400@welcome2wrbc.com
SUMMARY:Men's Ministry Group
DESCRIPTION:Join us as our Men’s Ministry Group gathers on Wednesday  evenings at 6:30PM for a time of prayer\, study\, discipleship\, and fellowship. We are currently reading and discussing the book\, “The Case For The Creator.”
URL:https://welcome2wrbc.com/event/mens-ministry-group-2-2023-08-16/
LOCATION:West Ripley Baptist Church\, 611 West Main St\, Ripley\, WV\, 25271\, United States
ATTACH;FMTTYPE=image/jpeg:https://welcome2wrbc.com/wp-content/uploads/2018/10/Church-Logo2.jpg
END:VEVENT
BEGIN:VEVENT
DTSTART;TZID=America/New_York:20260513T183000
DTEND;TZID=America/New_York:20260513T200000
DTSTAMP:20260422T231754
CREATED:20210701T220943Z
LAST-MODIFIED:20250514T202700Z
UID:10032683-1778697000-1778702400@welcome2wrbc.com
SUMMARY:Men's Ministry Group
DESCRIPTION:Join us as our Men’s Ministry Group gathers on Wednesday  evenings at 6:30PM for a time of prayer\, study\, discipleship\, and fellowship. We are currently reading and discussing the book\, “The Case For The Creator.”
URL:https://welcome2wrbc.com/event/mens-ministry-group-2-2023-10-11/
LOCATION:West Ripley Baptist Church\, 611 West Main St\, Ripley\, WV\, 25271\, United States
ATTACH;FMTTYPE=image/jpeg:https://welcome2wrbc.com/wp-content/uploads/2018/10/Church-Logo2.jpg
END:VEVENT
BEGIN:VEVENT
DTSTART;TZID=America/New_York:20260513T183000
DTEND;TZID=America/New_York:20260513T200000
DTSTAMP:20260422T231754
CREATED:20210701T220943Z
LAST-MODIFIED:20250514T202700Z
UID:10035399-1778697000-1778702400@welcome2wrbc.com
SUMMARY:Men's Ministry Group
DESCRIPTION:Join us as our Men’s Ministry Group gathers on Wednesday  evenings at 6:30PM for a time of prayer\, study\, discipleship\, and fellowship. We are currently reading and discussing the book\, “The Case For The Creator.”
URL:https://welcome2wrbc.com/event/mens-ministry-group-2-2023-12-06/
LOCATION:West Ripley Baptist Church\, 611 West Main St\, Ripley\, WV\, 25271\, United States
ATTACH;FMTTYPE=image/jpeg:https://welcome2wrbc.com/wp-content/uploads/2018/10/Church-Logo2.jpg
END:VEVENT
BEGIN:VEVENT
DTSTART;TZID=America/New_York:20260513T183000
DTEND;TZID=America/New_York:20260513T200000
DTSTAMP:20260422T231754
CREATED:20210701T220943Z
LAST-MODIFIED:20250514T202702Z
UID:10038051-1778697000-1778702400@welcome2wrbc.com
SUMMARY:Men's Ministry Group
DESCRIPTION:Join us as our Men’s Ministry Group gathers on Wednesday  evenings at 6:30PM for a time of prayer\, study\, discipleship\, and fellowship. We are currently reading and discussing the book\, “The Case For The Creator.”
URL:https://welcome2wrbc.com/event/mens-ministry-group-2-2024-01-31/
LOCATION:West Ripley Baptist Church\, 611 West Main St\, Ripley\, WV\, 25271\, United States
ATTACH;FMTTYPE=image/jpeg:https://welcome2wrbc.com/wp-content/uploads/2018/10/Church-Logo2.jpg
END:VEVENT
BEGIN:VEVENT
DTSTART;TZID=America/New_York:20260513T183000
DTEND;TZID=America/New_York:20260513T200000
DTSTAMP:20260422T231754
CREATED:20210701T220943Z
LAST-MODIFIED:20250514T205703Z
UID:10040639-1778697000-1778702400@welcome2wrbc.com
SUMMARY:Men's Ministry Group
DESCRIPTION:Join us as our Men’s Ministry Group gathers on Wednesday  evenings at 6:30PM for a time of prayer\, study\, discipleship\, and fellowship. We are currently reading and discussing the book\, “The Case For The Creator.”
URL:https://welcome2wrbc.com/event/mens-ministry-group-2-2024-03-27/
LOCATION:West Ripley Baptist Church\, 611 West Main St\, Ripley\, WV\, 25271\, United States
ATTACH;FMTTYPE=image/jpeg:https://welcome2wrbc.com/wp-content/uploads/2018/10/Church-Logo2.jpg
END:VEVENT
BEGIN:VEVENT
DTSTART;TZID=America/New_York:20260513T183000
DTEND;TZID=America/New_York:20260513T200000
DTSTAMP:20260422T231754
CREATED:20210701T220943Z
LAST-MODIFIED:20250514T212705Z
UID:10043163-1778697000-1778702400@welcome2wrbc.com
SUMMARY:Men's Ministry Group
DESCRIPTION:Join us as our Men’s Ministry Group gathers on Wednesday  evenings at 6:30PM for a time of prayer\, study\, discipleship\, and fellowship. We are currently reading and discussing the book\, “The Case For The Creator.”
URL:https://welcome2wrbc.com/event/mens-ministry-group-2-2024-05-22/
LOCATION:West Ripley Baptist Church\, 611 West Main St\, Ripley\, WV\, 25271\, United States
ATTACH;FMTTYPE=image/jpeg:https://welcome2wrbc.com/wp-content/uploads/2018/10/Church-Logo2.jpg
END:VEVENT
BEGIN:VEVENT
DTSTART;TZID=America/New_York:20260513T183000
DTEND;TZID=America/New_York:20260513T200000
DTSTAMP:20260422T231754
CREATED:20210701T220943Z
LAST-MODIFIED:20250514T202650Z
UID:10002848-1778697000-1778702400@welcome2wrbc.com
SUMMARY:Men's Ministry Group
DESCRIPTION:Join us as our Men’s Ministry Group gathers on Wednesday  evenings at 6:30PM for a time of prayer\, study\, discipleship\, and fellowship. We are currently reading and discussing the book\, “The Case For The Creator.”
URL:https://welcome2wrbc.com/event/mens-ministry-group-2-2022-04-13/
LOCATION:West Ripley Baptist Church\, 611 West Main St\, Ripley\, WV\, 25271\, United States
ATTACH;FMTTYPE=image/jpeg:https://welcome2wrbc.com/wp-content/uploads/2018/10/Church-Logo2.jpg
END:VEVENT
BEGIN:VEVENT
DTSTART;TZID=America/New_York:20260513T183000
DTEND;TZID=America/New_York:20260513T200000
DTSTAMP:20260422T231754
CREATED:20210701T220943Z
LAST-MODIFIED:20250514T202651Z
UID:10006188-1778697000-1778702400@welcome2wrbc.com
SUMMARY:Men's Ministry Group
DESCRIPTION:Join us as our Men’s Ministry Group gathers on Wednesday  evenings at 6:30PM for a time of prayer\, study\, discipleship\, and fellowship. We are currently reading and discussing the book\, “The Case For The Creator.”
URL:https://welcome2wrbc.com/event/mens-ministry-group-2-2022-06-08/
LOCATION:West Ripley Baptist Church\, 611 West Main St\, Ripley\, WV\, 25271\, United States
ATTACH;FMTTYPE=image/jpeg:https://welcome2wrbc.com/wp-content/uploads/2018/10/Church-Logo2.jpg
END:VEVENT
BEGIN:VEVENT
DTSTART;TZID=America/New_York:20260513T183000
DTEND;TZID=America/New_York:20260513T200000
DTSTAMP:20260422T231754
CREATED:20210701T220943Z
LAST-MODIFIED:20250514T202652Z
UID:10009464-1778697000-1778702400@welcome2wrbc.com
SUMMARY:Men's Ministry Group
DESCRIPTION:Join us as our Men’s Ministry Group gathers on Wednesday  evenings at 6:30PM for a time of prayer\, study\, discipleship\, and fellowship. We are currently reading and discussing the book\, “The Case For The Creator.”
URL:https://welcome2wrbc.com/event/mens-ministry-group-2-2022-08-03/
LOCATION:West Ripley Baptist Church\, 611 West Main St\, Ripley\, WV\, 25271\, United States
ATTACH;FMTTYPE=image/jpeg:https://welcome2wrbc.com/wp-content/uploads/2018/10/Church-Logo2.jpg
END:VEVENT
BEGIN:VEVENT
DTSTART;TZID=America/New_York:20260513T183000
DTEND;TZID=America/New_York:20260513T200000
DTSTAMP:20260422T231754
CREATED:20210701T220943Z
LAST-MODIFIED:20250514T202653Z
UID:10012676-1778697000-1778702400@welcome2wrbc.com
SUMMARY:Men's Ministry Group
DESCRIPTION:Join us as our Men’s Ministry Group gathers on Wednesday  evenings at 6:30PM for a time of prayer\, study\, discipleship\, and fellowship. We are currently reading and discussing the book\, “The Case For The Creator.”
URL:https://welcome2wrbc.com/event/mens-ministry-group-2-2022-09-28/
LOCATION:West Ripley Baptist Church\, 611 West Main St\, Ripley\, WV\, 25271\, United States
ATTACH;FMTTYPE=image/jpeg:https://welcome2wrbc.com/wp-content/uploads/2018/10/Church-Logo2.jpg
END:VEVENT
BEGIN:VEVENT
DTSTART;TZID=America/New_York:20260513T183000
DTEND;TZID=America/New_York:20260513T200000
DTSTAMP:20260422T231754
CREATED:20210701T220943Z
LAST-MODIFIED:20250514T202654Z
UID:10015824-1778697000-1778702400@welcome2wrbc.com
SUMMARY:Men's Ministry Group
DESCRIPTION:Join us as our Men’s Ministry Group gathers on Wednesday  evenings at 6:30PM for a time of prayer\, study\, discipleship\, and fellowship. We are currently reading and discussing the book\, “The Case For The Creator.”
URL:https://welcome2wrbc.com/event/mens-ministry-group-2-2022-11-23/
LOCATION:West Ripley Baptist Church\, 611 West Main St\, Ripley\, WV\, 25271\, United States
ATTACH;FMTTYPE=image/jpeg:https://welcome2wrbc.com/wp-content/uploads/2018/10/Church-Logo2.jpg
END:VEVENT
BEGIN:VEVENT
DTSTART;TZID=America/New_York:20260513T183000
DTEND;TZID=America/New_York:20260513T200000
DTSTAMP:20260422T231754
CREATED:20210701T220943Z
LAST-MODIFIED:20250514T202655Z
UID:10018908-1778697000-1778702400@welcome2wrbc.com
SUMMARY:Men's Ministry Group
DESCRIPTION:Join us as our Men’s Ministry Group gathers on Wednesday  evenings at 6:30PM for a time of prayer\, study\, discipleship\, and fellowship. We are currently reading and discussing the book\, “The Case For The Creator.”
URL:https://welcome2wrbc.com/event/mens-ministry-group-2-2023-01-18/
LOCATION:West Ripley Baptist Church\, 611 West Main St\, Ripley\, WV\, 25271\, United States
ATTACH;FMTTYPE=image/jpeg:https://welcome2wrbc.com/wp-content/uploads/2018/10/Church-Logo2.jpg
END:VEVENT
BEGIN:VEVENT
DTSTART;TZID=America/New_York:20260513T183000
DTEND;TZID=America/New_York:20260513T200000
DTSTAMP:20260422T231754
CREATED:20210701T220943Z
LAST-MODIFIED:20250514T202656Z
UID:10021928-1778697000-1778702400@welcome2wrbc.com
SUMMARY:Men's Ministry Group
DESCRIPTION:Join us as our Men’s Ministry Group gathers on Wednesday  evenings at 6:30PM for a time of prayer\, study\, discipleship\, and fellowship. We are currently reading and discussing the book\, “The Case For The Creator.”
URL:https://welcome2wrbc.com/event/mens-ministry-group-2-2023-03-15/
LOCATION:West Ripley Baptist Church\, 611 West Main St\, Ripley\, WV\, 25271\, United States
ATTACH;FMTTYPE=image/jpeg:https://welcome2wrbc.com/wp-content/uploads/2018/10/Church-Logo2.jpg
END:VEVENT
BEGIN:VEVENT
DTSTART;TZID=America/New_York:20260513T183000
DTEND;TZID=America/New_York:20260513T200000
DTSTAMP:20260422T231754
CREATED:20210701T220943Z
LAST-MODIFIED:20250514T202657Z
UID:10024884-1778697000-1778702400@welcome2wrbc.com
SUMMARY:Men's Ministry Group
DESCRIPTION:Join us as our Men’s Ministry Group gathers on Wednesday  evenings at 6:30PM for a time of prayer\, study\, discipleship\, and fellowship. We are currently reading and discussing the book\, “The Case For The Creator.”
URL:https://welcome2wrbc.com/event/mens-ministry-group-2-2023-05-10/
LOCATION:West Ripley Baptist Church\, 611 West Main St\, Ripley\, WV\, 25271\, United States
ATTACH;FMTTYPE=image/jpeg:https://welcome2wrbc.com/wp-content/uploads/2018/10/Church-Logo2.jpg
END:VEVENT
BEGIN:VEVENT
DTSTART;TZID=America/New_York:20260513T183000
DTEND;TZID=America/New_York:20260513T200000
DTSTAMP:20260422T231754
CREATED:20210701T220943Z
LAST-MODIFIED:20250514T202658Z
UID:10027776-1778697000-1778702400@welcome2wrbc.com
SUMMARY:Men's Ministry Group
DESCRIPTION:Join us as our Men’s Ministry Group gathers on Wednesday  evenings at 6:30PM for a time of prayer\, study\, discipleship\, and fellowship. We are currently reading and discussing the book\, “The Case For The Creator.”
URL:https://welcome2wrbc.com/event/mens-ministry-group-2-2023-07-05/
LOCATION:West Ripley Baptist Church\, 611 West Main St\, Ripley\, WV\, 25271\, United States
ATTACH;FMTTYPE=image/jpeg:https://welcome2wrbc.com/wp-content/uploads/2018/10/Church-Logo2.jpg
END:VEVENT
BEGIN:VEVENT
DTSTART;TZID=America/New_York:20260513T183000
DTEND;TZID=America/New_York:20260513T200000
DTSTAMP:20260422T231754
CREATED:20210701T220943Z
LAST-MODIFIED:20250514T202659Z
UID:10030604-1778697000-1778702400@welcome2wrbc.com
SUMMARY:Men's Ministry Group
DESCRIPTION:Join us as our Men’s Ministry Group gathers on Wednesday  evenings at 6:30PM for a time of prayer\, study\, discipleship\, and fellowship. We are currently reading and discussing the book\, “The Case For The Creator.”
URL:https://welcome2wrbc.com/event/mens-ministry-group-2-2023-08-30/
LOCATION:West Ripley Baptist Church\, 611 West Main St\, Ripley\, WV\, 25271\, United States
ATTACH;FMTTYPE=image/jpeg:https://welcome2wrbc.com/wp-content/uploads/2018/10/Church-Logo2.jpg
END:VEVENT
BEGIN:VEVENT
DTSTART;TZID=America/New_York:20260513T183000
DTEND;TZID=America/New_York:20260513T200000
DTSTAMP:20260422T231754
CREATED:20210701T220943Z
LAST-MODIFIED:20250514T202700Z
UID:10033368-1778697000-1778702400@welcome2wrbc.com
SUMMARY:Men's Ministry Group
DESCRIPTION:Join us as our Men’s Ministry Group gathers on Wednesday  evenings at 6:30PM for a time of prayer\, study\, discipleship\, and fellowship. We are currently reading and discussing the book\, “The Case For The Creator.”
URL:https://welcome2wrbc.com/event/mens-ministry-group-2-2023-10-25/
LOCATION:West Ripley Baptist Church\, 611 West Main St\, Ripley\, WV\, 25271\, United States
ATTACH;FMTTYPE=image/jpeg:https://welcome2wrbc.com/wp-content/uploads/2018/10/Church-Logo2.jpg
END:VEVENT
BEGIN:VEVENT
DTSTART;TZID=America/New_York:20260513T183000
DTEND;TZID=America/New_York:20260513T200000
DTSTAMP:20260422T231754
CREATED:20210701T220943Z
LAST-MODIFIED:20250514T202701Z
UID:10036068-1778697000-1778702400@welcome2wrbc.com
SUMMARY:Men's Ministry Group
DESCRIPTION:Join us as our Men’s Ministry Group gathers on Wednesday  evenings at 6:30PM for a time of prayer\, study\, discipleship\, and fellowship. We are currently reading and discussing the book\, “The Case For The Creator.”
URL:https://welcome2wrbc.com/event/mens-ministry-group-2-2023-12-20/
LOCATION:West Ripley Baptist Church\, 611 West Main St\, Ripley\, WV\, 25271\, United States
ATTACH;FMTTYPE=image/jpeg:https://welcome2wrbc.com/wp-content/uploads/2018/10/Church-Logo2.jpg
END:VEVENT
BEGIN:VEVENT
DTSTART;TZID=America/New_York:20260513T183000
DTEND;TZID=America/New_York:20260513T200000
DTSTAMP:20260422T231754
CREATED:20210701T220943Z
LAST-MODIFIED:20250514T202702Z
UID:10038704-1778697000-1778702400@welcome2wrbc.com
SUMMARY:Men's Ministry Group
DESCRIPTION:Join us as our Men’s Ministry Group gathers on Wednesday  evenings at 6:30PM for a time of prayer\, study\, discipleship\, and fellowship. We are currently reading and discussing the book\, “The Case For The Creator.”
URL:https://welcome2wrbc.com/event/mens-ministry-group-2-2024-02-14/
LOCATION:West Ripley Baptist Church\, 611 West Main St\, Ripley\, WV\, 25271\, United States
ATTACH;FMTTYPE=image/jpeg:https://welcome2wrbc.com/wp-content/uploads/2018/10/Church-Logo2.jpg
END:VEVENT
END:VCALENDAR