BEGIN:VCALENDAR
VERSION:2.0
PRODID:-//West Ripley Baptist Church - ECPv6.15.20//NONSGML v1.0//EN
CALSCALE:GREGORIAN
METHOD:PUBLISH
X-WR-CALNAME:West Ripley Baptist Church
X-ORIGINAL-URL:https://welcome2wrbc.com
X-WR-CALDESC:Events for West Ripley Baptist Church
REFRESH-INTERVAL;VALUE=DURATION:PT1H
X-Robots-Tag:noindex
X-PUBLISHED-TTL:PT1H
BEGIN:VTIMEZONE
TZID:America/New_York
BEGIN:DAYLIGHT
TZOFFSETFROM:-0500
TZOFFSETTO:-0400
TZNAME:EDT
DTSTART:20250309T070000
END:DAYLIGHT
BEGIN:STANDARD
TZOFFSETFROM:-0400
TZOFFSETTO:-0500
TZNAME:EST
DTSTART:20251102T060000
END:STANDARD
BEGIN:DAYLIGHT
TZOFFSETFROM:-0500
TZOFFSETTO:-0400
TZNAME:EDT
DTSTART:20260308T070000
END:DAYLIGHT
BEGIN:STANDARD
TZOFFSETFROM:-0400
TZOFFSETTO:-0500
TZNAME:EST
DTSTART:20261101T060000
END:STANDARD
BEGIN:DAYLIGHT
TZOFFSETFROM:-0500
TZOFFSETTO:-0400
TZNAME:EDT
DTSTART:20270314T070000
END:DAYLIGHT
BEGIN:STANDARD
TZOFFSETFROM:-0400
TZOFFSETTO:-0500
TZNAME:EST
DTSTART:20271107T060000
END:STANDARD
END:VTIMEZONE
BEGIN:VEVENT
DTSTART;TZID=America/New_York:20260401T183000
DTEND;TZID=America/New_York:20260401T200000
DTSTAMP:20260425T061815
CREATED:20210701T220943Z
LAST-MODIFIED:20250514T202656Z
UID:10021173-1775068200-1775073600@welcome2wrbc.com
SUMMARY:Men's Ministry Group
DESCRIPTION:Join us as our Men’s Ministry Group gathers on Wednesday  evenings at 6:30PM for a time of prayer\, study\, discipleship\, and fellowship. We are currently reading and discussing the book\, “The Case For The Creator.”
URL:https://welcome2wrbc.com/event/mens-ministry-group-2-2023-03-01/
LOCATION:West Ripley Baptist Church\, 611 West Main St\, Ripley\, WV\, 25271\, United States
ATTACH;FMTTYPE=image/jpeg:https://welcome2wrbc.com/wp-content/uploads/2018/10/Church-Logo2.jpg
END:VEVENT
BEGIN:VEVENT
DTSTART;TZID=America/New_York:20260401T183000
DTEND;TZID=America/New_York:20260401T200000
DTSTAMP:20260425T061815
CREATED:20210701T220943Z
LAST-MODIFIED:20250514T205703Z
UID:10041587-1775068200-1775073600@welcome2wrbc.com
SUMMARY:Men's Ministry Group
DESCRIPTION:Join us as our Men’s Ministry Group gathers on Wednesday  evenings at 6:30PM for a time of prayer\, study\, discipleship\, and fellowship. We are currently reading and discussing the book\, “The Case For The Creator.”
URL:https://welcome2wrbc.com/event/mens-ministry-group-2-2024-04-17/
LOCATION:West Ripley Baptist Church\, 611 West Main St\, Ripley\, WV\, 25271\, United States
ATTACH;FMTTYPE=image/jpeg:https://welcome2wrbc.com/wp-content/uploads/2018/10/Church-Logo2.jpg
END:VEVENT
BEGIN:VEVENT
DTSTART;TZID=America/New_York:20260401T183000
DTEND;TZID=America/New_York:20260401T200000
DTSTAMP:20260425T061815
CREATED:20210701T220943Z
LAST-MODIFIED:20250514T202653Z
UID:10010267-1775068200-1775073600@welcome2wrbc.com
SUMMARY:Men's Ministry Group
DESCRIPTION:Join us as our Men’s Ministry Group gathers on Wednesday  evenings at 6:30PM for a time of prayer\, study\, discipleship\, and fellowship. We are currently reading and discussing the book\, “The Case For The Creator.”
URL:https://welcome2wrbc.com/event/mens-ministry-group-2-2022-08-17/
LOCATION:West Ripley Baptist Church\, 611 West Main St\, Ripley\, WV\, 25271\, United States
ATTACH;FMTTYPE=image/jpeg:https://welcome2wrbc.com/wp-content/uploads/2018/10/Church-Logo2.jpg
END:VEVENT
BEGIN:VEVENT
DTSTART;TZID=America/New_York:20260401T183000
DTEND;TZID=America/New_York:20260401T200000
DTSTAMP:20260425T061815
CREATED:20210701T220943Z
LAST-MODIFIED:20250514T202700Z
UID:10032677-1775068200-1775073600@welcome2wrbc.com
SUMMARY:Men's Ministry Group
DESCRIPTION:Join us as our Men’s Ministry Group gathers on Wednesday  evenings at 6:30PM for a time of prayer\, study\, discipleship\, and fellowship. We are currently reading and discussing the book\, “The Case For The Creator.”
URL:https://welcome2wrbc.com/event/mens-ministry-group-2-2023-10-11/
LOCATION:West Ripley Baptist Church\, 611 West Main St\, Ripley\, WV\, 25271\, United States
ATTACH;FMTTYPE=image/jpeg:https://welcome2wrbc.com/wp-content/uploads/2018/10/Church-Logo2.jpg
END:VEVENT
BEGIN:VEVENT
DTSTART;TZID=America/New_York:20260401T183000
DTEND;TZID=America/New_York:20260401T200000
DTSTAMP:20260425T061815
CREATED:20210701T220943Z
LAST-MODIFIED:20250514T202656Z
UID:10023038-1775068200-1775073600@welcome2wrbc.com
SUMMARY:Men's Ministry Group
DESCRIPTION:Join us as our Men’s Ministry Group gathers on Wednesday  evenings at 6:30PM for a time of prayer\, study\, discipleship\, and fellowship. We are currently reading and discussing the book\, “The Case For The Creator.”
URL:https://welcome2wrbc.com/event/mens-ministry-group-2-2023-04-05/
LOCATION:West Ripley Baptist Church\, 611 West Main St\, Ripley\, WV\, 25271\, United States
ATTACH;FMTTYPE=image/jpeg:https://welcome2wrbc.com/wp-content/uploads/2018/10/Church-Logo2.jpg
END:VEVENT
BEGIN:VEVENT
DTSTART;TZID=America/New_York:20260401T183000
DTEND;TZID=America/New_York:20260401T200000
DTSTAMP:20260425T061815
CREATED:20210701T220943Z
LAST-MODIFIED:20250522T222704Z
UID:10044702-1775068200-1775073600@welcome2wrbc.com
SUMMARY:Men's Ministry Group
DESCRIPTION:Join us as our Men’s Ministry Group gathers on Wednesday  evenings at 6:30PM for a time of prayer\, study\, discipleship\, and fellowship. We are currently reading and discussing the book\, “The Case For The Creator.”
URL:https://welcome2wrbc.com/event/mens-ministry-group-2-2024-06-26/
LOCATION:West Ripley Baptist Church\, 611 West Main St\, Ripley\, WV\, 25271\, United States
ATTACH;FMTTYPE=image/jpeg:https://welcome2wrbc.com/wp-content/uploads/2018/10/Church-Logo2.jpg
END:VEVENT
BEGIN:VEVENT
DTSTART;TZID=America/New_York:20260401T183000
DTEND;TZID=America/New_York:20260401T200000
DTSTAMP:20260425T061815
CREATED:20210701T220943Z
LAST-MODIFIED:20250514T202654Z
UID:10014252-1775068200-1775073600@welcome2wrbc.com
SUMMARY:Men's Ministry Group
DESCRIPTION:Join us as our Men’s Ministry Group gathers on Wednesday  evenings at 6:30PM for a time of prayer\, study\, discipleship\, and fellowship. We are currently reading and discussing the book\, “The Case For The Creator.”
URL:https://welcome2wrbc.com/event/mens-ministry-group-2-2022-10-26/
LOCATION:West Ripley Baptist Church\, 611 West Main St\, Ripley\, WV\, 25271\, United States
ATTACH;FMTTYPE=image/jpeg:https://welcome2wrbc.com/wp-content/uploads/2018/10/Church-Logo2.jpg
END:VEVENT
BEGIN:VEVENT
DTSTART;TZID=America/New_York:20260401T183000
DTEND;TZID=America/New_York:20260401T200000
DTSTAMP:20260425T061815
CREATED:20210701T220943Z
LAST-MODIFIED:20250514T202701Z
UID:10036395-1775068200-1775073600@welcome2wrbc.com
SUMMARY:Men's Ministry Group
DESCRIPTION:Join us as our Men’s Ministry Group gathers on Wednesday  evenings at 6:30PM for a time of prayer\, study\, discipleship\, and fellowship. We are currently reading and discussing the book\, “The Case For The Creator.”
URL:https://welcome2wrbc.com/event/mens-ministry-group-2-2023-12-27/
LOCATION:West Ripley Baptist Church\, 611 West Main St\, Ripley\, WV\, 25271\, United States
ATTACH;FMTTYPE=image/jpeg:https://welcome2wrbc.com/wp-content/uploads/2018/10/Church-Logo2.jpg
END:VEVENT
BEGIN:VEVENT
DTSTART;TZID=America/New_York:20260401T183000
DTEND;TZID=America/New_York:20260401T200000
DTSTAMP:20260425T061815
CREATED:20210701T220943Z
LAST-MODIFIED:20250514T202655Z
UID:10016595-1775068200-1775073600@welcome2wrbc.com
SUMMARY:Men's Ministry Group
DESCRIPTION:Join us as our Men’s Ministry Group gathers on Wednesday  evenings at 6:30PM for a time of prayer\, study\, discipleship\, and fellowship. We are currently reading and discussing the book\, “The Case For The Creator.”
URL:https://welcome2wrbc.com/event/mens-ministry-group-2-2022-12-07/
LOCATION:West Ripley Baptist Church\, 611 West Main St\, Ripley\, WV\, 25271\, United States
ATTACH;FMTTYPE=image/jpeg:https://welcome2wrbc.com/wp-content/uploads/2018/10/Church-Logo2.jpg
END:VEVENT
BEGIN:VEVENT
DTSTART;TZID=America/New_York:20260401T183000
DTEND;TZID=America/New_York:20260401T200000
DTSTAMP:20260425T061815
CREATED:20210701T220943Z
LAST-MODIFIED:20250514T202702Z
UID:10038045-1775068200-1775073600@welcome2wrbc.com
SUMMARY:Men's Ministry Group
DESCRIPTION:Join us as our Men’s Ministry Group gathers on Wednesday  evenings at 6:30PM for a time of prayer\, study\, discipleship\, and fellowship. We are currently reading and discussing the book\, “The Case For The Creator.”
URL:https://welcome2wrbc.com/event/mens-ministry-group-2-2024-01-31/
LOCATION:West Ripley Baptist Church\, 611 West Main St\, Ripley\, WV\, 25271\, United States
ATTACH;FMTTYPE=image/jpeg:https://welcome2wrbc.com/wp-content/uploads/2018/10/Church-Logo2.jpg
END:VEVENT
BEGIN:VEVENT
DTSTART;TZID=America/New_York:20260401T183000
DTEND;TZID=America/New_York:20260401T200000
DTSTAMP:20260425T061815
CREATED:20210701T220943Z
LAST-MODIFIED:20250514T202651Z
UID:10005768-1775068200-1775073600@welcome2wrbc.com
SUMMARY:Men's Ministry Group
DESCRIPTION:Join us as our Men’s Ministry Group gathers on Wednesday  evenings at 6:30PM for a time of prayer\, study\, discipleship\, and fellowship. We are currently reading and discussing the book\, “The Case For The Creator.”
URL:https://welcome2wrbc.com/event/mens-ministry-group-2-2022-06-01/
LOCATION:West Ripley Baptist Church\, 611 West Main St\, Ripley\, WV\, 25271\, United States
ATTACH;FMTTYPE=image/jpeg:https://welcome2wrbc.com/wp-content/uploads/2018/10/Church-Logo2.jpg
END:VEVENT
BEGIN:VEVENT
DTSTART;TZID=America/New_York:20260401T183000
DTEND;TZID=America/New_York:20260401T200000
DTSTAMP:20260425T061815
CREATED:20210701T220943Z
LAST-MODIFIED:20250514T202655Z
UID:10018902-1775068200-1775073600@welcome2wrbc.com
SUMMARY:Men's Ministry Group
DESCRIPTION:Join us as our Men’s Ministry Group gathers on Wednesday  evenings at 6:30PM for a time of prayer\, study\, discipleship\, and fellowship. We are currently reading and discussing the book\, “The Case For The Creator.”
URL:https://welcome2wrbc.com/event/mens-ministry-group-2-2023-01-18/
LOCATION:West Ripley Baptist Church\, 611 West Main St\, Ripley\, WV\, 25271\, United States
ATTACH;FMTTYPE=image/jpeg:https://welcome2wrbc.com/wp-content/uploads/2018/10/Church-Logo2.jpg
END:VEVENT
BEGIN:VEVENT
DTSTART;TZID=America/New_York:20260401T183000
DTEND;TZID=America/New_York:20260401T200000
DTSTAMP:20260425T061815
CREATED:20210701T220943Z
LAST-MODIFIED:20250514T202702Z
UID:10039670-1775068200-1775073600@welcome2wrbc.com
SUMMARY:Men's Ministry Group
DESCRIPTION:Join us as our Men’s Ministry Group gathers on Wednesday  evenings at 6:30PM for a time of prayer\, study\, discipleship\, and fellowship. We are currently reading and discussing the book\, “The Case For The Creator.”
URL:https://welcome2wrbc.com/event/mens-ministry-group-2-2024-03-06/
LOCATION:West Ripley Baptist Church\, 611 West Main St\, Ripley\, WV\, 25271\, United States
ATTACH;FMTTYPE=image/jpeg:https://welcome2wrbc.com/wp-content/uploads/2018/10/Church-Logo2.jpg
END:VEVENT
BEGIN:VEVENT
DTSTART;TZID=America/New_York:20260401T183000
DTEND;TZID=America/New_York:20260401T200000
DTSTAMP:20260425T061815
CREATED:20210701T220943Z
LAST-MODIFIED:20250514T202652Z
UID:10007828-1775068200-1775073600@welcome2wrbc.com
SUMMARY:Men's Ministry Group
DESCRIPTION:Join us as our Men’s Ministry Group gathers on Wednesday  evenings at 6:30PM for a time of prayer\, study\, discipleship\, and fellowship. We are currently reading and discussing the book\, “The Case For The Creator.”
URL:https://welcome2wrbc.com/event/mens-ministry-group-2-2022-07-06/
LOCATION:West Ripley Baptist Church\, 611 West Main St\, Ripley\, WV\, 25271\, United States
ATTACH;FMTTYPE=image/jpeg:https://welcome2wrbc.com/wp-content/uploads/2018/10/Church-Logo2.jpg
END:VEVENT
BEGIN:VEVENT
DTSTART;TZID=America/New_York:20260401T183000
DTEND;TZID=America/New_York:20260401T200000
DTSTAMP:20260425T061815
CREATED:20210701T220943Z
LAST-MODIFIED:20250514T202659Z
UID:10030598-1775068200-1775073600@welcome2wrbc.com
SUMMARY:Men's Ministry Group
DESCRIPTION:Join us as our Men’s Ministry Group gathers on Wednesday  evenings at 6:30PM for a time of prayer\, study\, discipleship\, and fellowship. We are currently reading and discussing the book\, “The Case For The Creator.”
URL:https://welcome2wrbc.com/event/mens-ministry-group-2-2023-08-30/
LOCATION:West Ripley Baptist Church\, 611 West Main St\, Ripley\, WV\, 25271\, United States
ATTACH;FMTTYPE=image/jpeg:https://welcome2wrbc.com/wp-content/uploads/2018/10/Church-Logo2.jpg
END:VEVENT
BEGIN:VEVENT
DTSTART;TZID=America/New_York:20260401T183000
DTEND;TZID=America/New_York:20260401T200000
DTSTAMP:20260425T061815
CREATED:20210701T220943Z
LAST-MODIFIED:20250514T202656Z
UID:10020797-1775068200-1775073600@welcome2wrbc.com
SUMMARY:Men's Ministry Group
DESCRIPTION:Join us as our Men’s Ministry Group gathers on Wednesday  evenings at 6:30PM for a time of prayer\, study\, discipleship\, and fellowship. We are currently reading and discussing the book\, “The Case For The Creator.”
URL:https://welcome2wrbc.com/event/mens-ministry-group-2-2023-02-22/
LOCATION:West Ripley Baptist Church\, 611 West Main St\, Ripley\, WV\, 25271\, United States
ATTACH;FMTTYPE=image/jpeg:https://welcome2wrbc.com/wp-content/uploads/2018/10/Church-Logo2.jpg
END:VEVENT
BEGIN:VEVENT
DTSTART;TZID=America/New_York:20260401T183000
DTEND;TZID=America/New_York:20260401T200000
DTSTAMP:20260425T061815
CREATED:20210701T220943Z
LAST-MODIFIED:20250514T202659Z
UID:10032333-1775068200-1775073600@welcome2wrbc.com
SUMMARY:Men's Ministry Group
DESCRIPTION:Join us as our Men’s Ministry Group gathers on Wednesday  evenings at 6:30PM for a time of prayer\, study\, discipleship\, and fellowship. We are currently reading and discussing the book\, “The Case For The Creator.”
URL:https://welcome2wrbc.com/event/mens-ministry-group-2-2023-10-04/
LOCATION:West Ripley Baptist Church\, 611 West Main St\, Ripley\, WV\, 25271\, United States
ATTACH;FMTTYPE=image/jpeg:https://welcome2wrbc.com/wp-content/uploads/2018/10/Church-Logo2.jpg
END:VEVENT
BEGIN:VEVENT
DTSTART;TZID=America/New_York:20260401T183000
DTEND;TZID=America/New_York:20260401T200000
DTSTAMP:20260425T061815
CREATED:20210701T220943Z
LAST-MODIFIED:20250514T202656Z
UID:10022667-1775068200-1775073600@welcome2wrbc.com
SUMMARY:Men's Ministry Group
DESCRIPTION:Join us as our Men’s Ministry Group gathers on Wednesday  evenings at 6:30PM for a time of prayer\, study\, discipleship\, and fellowship. We are currently reading and discussing the book\, “The Case For The Creator.”
URL:https://welcome2wrbc.com/event/mens-ministry-group-2-2023-03-29/
LOCATION:West Ripley Baptist Church\, 611 West Main St\, Ripley\, WV\, 25271\, United States
ATTACH;FMTTYPE=image/jpeg:https://welcome2wrbc.com/wp-content/uploads/2018/10/Church-Logo2.jpg
END:VEVENT
BEGIN:VEVENT
DTSTART;TZID=America/New_York:20260401T183000
DTEND;TZID=America/New_York:20260401T200000
DTSTAMP:20260425T061815
CREATED:20210701T220943Z
LAST-MODIFIED:20250514T212705Z
UID:10043157-1775068200-1775073600@welcome2wrbc.com
SUMMARY:Men's Ministry Group
DESCRIPTION:Join us as our Men’s Ministry Group gathers on Wednesday  evenings at 6:30PM for a time of prayer\, study\, discipleship\, and fellowship. We are currently reading and discussing the book\, “The Case For The Creator.”
URL:https://welcome2wrbc.com/event/mens-ministry-group-2-2024-05-22/
LOCATION:West Ripley Baptist Church\, 611 West Main St\, Ripley\, WV\, 25271\, United States
ATTACH;FMTTYPE=image/jpeg:https://welcome2wrbc.com/wp-content/uploads/2018/10/Church-Logo2.jpg
END:VEVENT
BEGIN:VEVENT
DTSTART;TZID=America/New_York:20260401T183000
DTEND;TZID=America/New_York:20260401T200000
DTSTAMP:20260425T061815
CREATED:20210701T220943Z
LAST-MODIFIED:20250514T202653Z
UID:10012272-1775068200-1775073600@welcome2wrbc.com
SUMMARY:Men's Ministry Group
DESCRIPTION:Join us as our Men’s Ministry Group gathers on Wednesday  evenings at 6:30PM for a time of prayer\, study\, discipleship\, and fellowship. We are currently reading and discussing the book\, “The Case For The Creator.”
URL:https://welcome2wrbc.com/event/mens-ministry-group-2-2022-09-21/
LOCATION:West Ripley Baptist Church\, 611 West Main St\, Ripley\, WV\, 25271\, United States
ATTACH;FMTTYPE=image/jpeg:https://welcome2wrbc.com/wp-content/uploads/2018/10/Church-Logo2.jpg
END:VEVENT
BEGIN:VEVENT
DTSTART;TZID=America/New_York:20260401T183000
DTEND;TZID=America/New_York:20260401T200000
DTSTAMP:20260425T061815
CREATED:20210701T220943Z
LAST-MODIFIED:20250514T202700Z
UID:10034043-1775068200-1775073600@welcome2wrbc.com
SUMMARY:Men's Ministry Group
DESCRIPTION:Join us as our Men’s Ministry Group gathers on Wednesday  evenings at 6:30PM for a time of prayer\, study\, discipleship\, and fellowship. We are currently reading and discussing the book\, “The Case For The Creator.”
URL:https://welcome2wrbc.com/event/mens-ministry-group-2-2023-11-08/
LOCATION:West Ripley Baptist Church\, 611 West Main St\, Ripley\, WV\, 25271\, United States
ATTACH;FMTTYPE=image/jpeg:https://welcome2wrbc.com/wp-content/uploads/2018/10/Church-Logo2.jpg
END:VEVENT
BEGIN:VEVENT
DTSTART;TZID=America/New_York:20260401T183000
DTEND;TZID=America/New_York:20260401T200000
DTSTAMP:20260425T061815
CREATED:20210701T220943Z
LAST-MODIFIED:20250514T202657Z
UID:10024512-1775068200-1775073600@welcome2wrbc.com
SUMMARY:Men's Ministry Group
DESCRIPTION:Join us as our Men’s Ministry Group gathers on Wednesday  evenings at 6:30PM for a time of prayer\, study\, discipleship\, and fellowship. We are currently reading and discussing the book\, “The Case For The Creator.”
URL:https://welcome2wrbc.com/event/mens-ministry-group-2-2023-05-03/
LOCATION:West Ripley Baptist Church\, 611 West Main St\, Ripley\, WV\, 25271\, United States
ATTACH;FMTTYPE=image/jpeg:https://welcome2wrbc.com/wp-content/uploads/2018/10/Church-Logo2.jpg
END:VEVENT
BEGIN:VEVENT
DTSTART;TZID=America/New_York:20260401T183000
DTEND;TZID=America/New_York:20260401T200000
DTSTAMP:20260425T061815
CREATED:20210701T220943Z
LAST-MODIFIED:20250522T222704Z
UID:10044395-1775068200-1775073600@welcome2wrbc.com
SUMMARY:Men's Ministry Group
DESCRIPTION:Join us as our Men’s Ministry Group gathers on Wednesday  evenings at 6:30PM for a time of prayer\, study\, discipleship\, and fellowship. We are currently reading and discussing the book\, “The Case For The Creator.”
URL:https://welcome2wrbc.com/event/mens-ministry-group-2-2024-06-19/
LOCATION:West Ripley Baptist Church\, 611 West Main St\, Ripley\, WV\, 25271\, United States
ATTACH;FMTTYPE=image/jpeg:https://welcome2wrbc.com/wp-content/uploads/2018/10/Church-Logo2.jpg
END:VEVENT
BEGIN:VEVENT
DTSTART;TZID=America/New_York:20260401T183000
DTEND;TZID=America/New_York:20260401T200000
DTSTAMP:20260425T061815
CREATED:20210701T220943Z
LAST-MODIFIED:20250514T202701Z
UID:10036062-1775068200-1775073600@welcome2wrbc.com
SUMMARY:Men's Ministry Group
DESCRIPTION:Join us as our Men’s Ministry Group gathers on Wednesday  evenings at 6:30PM for a time of prayer\, study\, discipleship\, and fellowship. We are currently reading and discussing the book\, “The Case For The Creator.”
URL:https://welcome2wrbc.com/event/mens-ministry-group-2-2023-12-20/
LOCATION:West Ripley Baptist Church\, 611 West Main St\, Ripley\, WV\, 25271\, United States
ATTACH;FMTTYPE=image/jpeg:https://welcome2wrbc.com/wp-content/uploads/2018/10/Church-Logo2.jpg
END:VEVENT
BEGIN:VEVENT
DTSTART;TZID=America/New_York:20260401T183000
DTEND;TZID=America/New_York:20260401T200000
DTSTAMP:20260425T061815
CREATED:20210701T220943Z
LAST-MODIFIED:20250514T202658Z
UID:10026332-1775068200-1775073600@welcome2wrbc.com
SUMMARY:Men's Ministry Group
DESCRIPTION:Join us as our Men’s Ministry Group gathers on Wednesday  evenings at 6:30PM for a time of prayer\, study\, discipleship\, and fellowship. We are currently reading and discussing the book\, “The Case For The Creator.”
URL:https://welcome2wrbc.com/event/mens-ministry-group-2-2023-06-07/
LOCATION:West Ripley Baptist Church\, 611 West Main St\, Ripley\, WV\, 25271\, United States
ATTACH;FMTTYPE=image/jpeg:https://welcome2wrbc.com/wp-content/uploads/2018/10/Church-Logo2.jpg
END:VEVENT
BEGIN:VEVENT
DTSTART;TZID=America/New_York:20260401T183000
DTEND;TZID=America/New_York:20260401T200000
DTSTAMP:20260425T061815
CREATED:20210701T220943Z
LAST-MODIFIED:20250514T202655Z
UID:10016207-1775068200-1775073600@welcome2wrbc.com
SUMMARY:Men's Ministry Group
DESCRIPTION:Join us as our Men’s Ministry Group gathers on Wednesday  evenings at 6:30PM for a time of prayer\, study\, discipleship\, and fellowship. We are currently reading and discussing the book\, “The Case For The Creator.”
URL:https://welcome2wrbc.com/event/mens-ministry-group-2-2022-11-30/
LOCATION:West Ripley Baptist Church\, 611 West Main St\, Ripley\, WV\, 25271\, United States
ATTACH;FMTTYPE=image/jpeg:https://welcome2wrbc.com/wp-content/uploads/2018/10/Church-Logo2.jpg
END:VEVENT
BEGIN:VEVENT
DTSTART;TZID=America/New_York:20260401T183000
DTEND;TZID=America/New_York:20260401T200000
DTSTAMP:20260425T061815
CREATED:20210701T220943Z
LAST-MODIFIED:20250514T202701Z
UID:10037717-1775068200-1775073600@welcome2wrbc.com
SUMMARY:Men's Ministry Group
DESCRIPTION:Join us as our Men’s Ministry Group gathers on Wednesday  evenings at 6:30PM for a time of prayer\, study\, discipleship\, and fellowship. We are currently reading and discussing the book\, “The Case For The Creator.”
URL:https://welcome2wrbc.com/event/mens-ministry-group-2-2024-01-24/
LOCATION:West Ripley Baptist Church\, 611 West Main St\, Ripley\, WV\, 25271\, United States
ATTACH;FMTTYPE=image/jpeg:https://welcome2wrbc.com/wp-content/uploads/2018/10/Church-Logo2.jpg
END:VEVENT
BEGIN:VEVENT
DTSTART;TZID=America/New_York:20260401T183000
DTEND;TZID=America/New_York:20260401T200000
DTSTAMP:20260425T061815
CREATED:20210701T220943Z
LAST-MODIFIED:20250514T202658Z
UID:10028483-1775068200-1775073600@welcome2wrbc.com
SUMMARY:Men's Ministry Group
DESCRIPTION:Join us as our Men’s Ministry Group gathers on Wednesday  evenings at 6:30PM for a time of prayer\, study\, discipleship\, and fellowship. We are currently reading and discussing the book\, “The Case For The Creator.”
URL:https://welcome2wrbc.com/event/mens-ministry-group-2-2023-07-19/
LOCATION:West Ripley Baptist Church\, 611 West Main St\, Ripley\, WV\, 25271\, United States
ATTACH;FMTTYPE=image/jpeg:https://welcome2wrbc.com/wp-content/uploads/2018/10/Church-Logo2.jpg
END:VEVENT
BEGIN:VEVENT
DTSTART;TZID=America/New_York:20260401T183000
DTEND;TZID=America/New_York:20260401T200000
DTSTAMP:20260425T061815
CREATED:20210701T220943Z
LAST-MODIFIED:20250514T202655Z
UID:10018520-1775068200-1775073600@welcome2wrbc.com
SUMMARY:Men's Ministry Group
DESCRIPTION:Join us as our Men’s Ministry Group gathers on Wednesday  evenings at 6:30PM for a time of prayer\, study\, discipleship\, and fellowship. We are currently reading and discussing the book\, “The Case For The Creator.”
URL:https://welcome2wrbc.com/event/mens-ministry-group-2-2023-01-11/
LOCATION:West Ripley Baptist Church\, 611 West Main St\, Ripley\, WV\, 25271\, United States
ATTACH;FMTTYPE=image/jpeg:https://welcome2wrbc.com/wp-content/uploads/2018/10/Church-Logo2.jpg
END:VEVENT
BEGIN:VEVENT
DTSTART;TZID=America/New_York:20260401T183000
DTEND;TZID=America/New_York:20260401T200000
DTSTAMP:20260425T061815
CREATED:20210701T220943Z
LAST-MODIFIED:20250514T202659Z
UID:10030248-1775068200-1775073600@welcome2wrbc.com
SUMMARY:Men's Ministry Group
DESCRIPTION:Join us as our Men’s Ministry Group gathers on Wednesday  evenings at 6:30PM for a time of prayer\, study\, discipleship\, and fellowship. We are currently reading and discussing the book\, “The Case For The Creator.”
URL:https://welcome2wrbc.com/event/mens-ministry-group-2-2023-08-23/
LOCATION:West Ripley Baptist Church\, 611 West Main St\, Ripley\, WV\, 25271\, United States
ATTACH;FMTTYPE=image/jpeg:https://welcome2wrbc.com/wp-content/uploads/2018/10/Church-Logo2.jpg
END:VEVENT
END:VCALENDAR