BEGIN:VCALENDAR
VERSION:2.0
PRODID:-//West Ripley Baptist Church - ECPv6.15.20//NONSGML v1.0//EN
CALSCALE:GREGORIAN
METHOD:PUBLISH
X-WR-CALNAME:West Ripley Baptist Church
X-ORIGINAL-URL:https://welcome2wrbc.com
X-WR-CALDESC:Events for West Ripley Baptist Church
REFRESH-INTERVAL;VALUE=DURATION:PT1H
X-Robots-Tag:noindex
X-PUBLISHED-TTL:PT1H
BEGIN:VTIMEZONE
TZID:America/New_York
BEGIN:DAYLIGHT
TZOFFSETFROM:-0500
TZOFFSETTO:-0400
TZNAME:EDT
DTSTART:20250309T070000
END:DAYLIGHT
BEGIN:STANDARD
TZOFFSETFROM:-0400
TZOFFSETTO:-0500
TZNAME:EST
DTSTART:20251102T060000
END:STANDARD
BEGIN:DAYLIGHT
TZOFFSETFROM:-0500
TZOFFSETTO:-0400
TZNAME:EDT
DTSTART:20260308T070000
END:DAYLIGHT
BEGIN:STANDARD
TZOFFSETFROM:-0400
TZOFFSETTO:-0500
TZNAME:EST
DTSTART:20261101T060000
END:STANDARD
BEGIN:DAYLIGHT
TZOFFSETFROM:-0500
TZOFFSETTO:-0400
TZNAME:EDT
DTSTART:20270314T070000
END:DAYLIGHT
BEGIN:STANDARD
TZOFFSETFROM:-0400
TZOFFSETTO:-0500
TZNAME:EST
DTSTART:20271107T060000
END:STANDARD
END:VTIMEZONE
BEGIN:VEVENT
DTSTART;TZID=America/New_York:20260527T183000
DTEND;TZID=America/New_York:20260527T200000
DTSTAMP:20260425T164630
CREATED:20210701T220943Z
LAST-MODIFIED:20250514T202656Z
UID:10023046-1779906600-1779912000@welcome2wrbc.com
SUMMARY:Men's Ministry Group
DESCRIPTION:Join us as our Men’s Ministry Group gathers on Wednesday  evenings at 6:30PM for a time of prayer\, study\, discipleship\, and fellowship. We are currently reading and discussing the book\, “The Case For The Creator.”
URL:https://welcome2wrbc.com/event/mens-ministry-group-2-2023-04-05/
LOCATION:West Ripley Baptist Church\, 611 West Main St\, Ripley\, WV\, 25271\, United States
ATTACH;FMTTYPE=image/jpeg:https://welcome2wrbc.com/wp-content/uploads/2018/10/Church-Logo2.jpg
END:VEVENT
BEGIN:VEVENT
DTSTART;TZID=America/New_York:20260527T183000
DTEND;TZID=America/New_York:20260527T200000
DTSTAMP:20260425T164630
CREATED:20210701T220943Z
LAST-MODIFIED:20250514T202651Z
UID:10004528-1779906600-1779912000@welcome2wrbc.com
SUMMARY:Men's Ministry Group
DESCRIPTION:Join us as our Men’s Ministry Group gathers on Wednesday  evenings at 6:30PM for a time of prayer\, study\, discipleship\, and fellowship. We are currently reading and discussing the book\, “The Case For The Creator.”
URL:https://welcome2wrbc.com/event/mens-ministry-group-2-2022-05-11/
LOCATION:West Ripley Baptist Church\, 611 West Main St\, Ripley\, WV\, 25271\, United States
ATTACH;FMTTYPE=image/jpeg:https://welcome2wrbc.com/wp-content/uploads/2018/10/Church-Logo2.jpg
END:VEVENT
BEGIN:VEVENT
DTSTART;TZID=America/New_York:20260527T183000
DTEND;TZID=America/New_York:20260527T200000
DTSTAMP:20260425T164630
CREATED:20210701T220943Z
LAST-MODIFIED:20250514T202659Z
UID:10031650-1779906600-1779912000@welcome2wrbc.com
SUMMARY:Men's Ministry Group
DESCRIPTION:Join us as our Men’s Ministry Group gathers on Wednesday  evenings at 6:30PM for a time of prayer\, study\, discipleship\, and fellowship. We are currently reading and discussing the book\, “The Case For The Creator.”
URL:https://welcome2wrbc.com/event/mens-ministry-group-2-2023-09-20/
LOCATION:West Ripley Baptist Church\, 611 West Main St\, Ripley\, WV\, 25271\, United States
ATTACH;FMTTYPE=image/jpeg:https://welcome2wrbc.com/wp-content/uploads/2018/10/Church-Logo2.jpg
END:VEVENT
BEGIN:VEVENT
DTSTART;TZID=America/New_York:20260527T183000
DTEND;TZID=America/New_York:20260527T200000
DTSTAMP:20260425T164630
CREATED:20210701T220943Z
LAST-MODIFIED:20250514T202700Z
UID:10034728-1779906600-1779912000@welcome2wrbc.com
SUMMARY:Men's Ministry Group
DESCRIPTION:Join us as our Men’s Ministry Group gathers on Wednesday  evenings at 6:30PM for a time of prayer\, study\, discipleship\, and fellowship. We are currently reading and discussing the book\, “The Case For The Creator.”
URL:https://welcome2wrbc.com/event/mens-ministry-group-2-2023-11-22/
LOCATION:West Ripley Baptist Church\, 611 West Main St\, Ripley\, WV\, 25271\, United States
ATTACH;FMTTYPE=image/jpeg:https://welcome2wrbc.com/wp-content/uploads/2018/10/Church-Logo2.jpg
END:VEVENT
BEGIN:VEVENT
DTSTART;TZID=America/New_York:20260527T183000
DTEND;TZID=America/New_York:20260527T200000
DTSTAMP:20260425T164630
CREATED:20210701T220943Z
LAST-MODIFIED:20250514T202655Z
UID:10017761-1779906600-1779912000@welcome2wrbc.com
SUMMARY:Men's Ministry Group
DESCRIPTION:Join us as our Men’s Ministry Group gathers on Wednesday  evenings at 6:30PM for a time of prayer\, study\, discipleship\, and fellowship. We are currently reading and discussing the book\, “The Case For The Creator.”
URL:https://welcome2wrbc.com/event/mens-ministry-group-2-2022-12-28/
LOCATION:West Ripley Baptist Church\, 611 West Main St\, Ripley\, WV\, 25271\, United States
ATTACH;FMTTYPE=image/jpeg:https://welcome2wrbc.com/wp-content/uploads/2018/10/Church-Logo2.jpg
END:VEVENT
BEGIN:VEVENT
DTSTART;TZID=America/New_York:20260527T183000
DTEND;TZID=America/New_York:20260527T200000
DTSTAMP:20260425T164630
CREATED:20210701T220943Z
LAST-MODIFIED:20250514T202654Z
UID:10015045-1779906600-1779912000@welcome2wrbc.com
SUMMARY:Men's Ministry Group
DESCRIPTION:Join us as our Men’s Ministry Group gathers on Wednesday  evenings at 6:30PM for a time of prayer\, study\, discipleship\, and fellowship. We are currently reading and discussing the book\, “The Case For The Creator.”
URL:https://welcome2wrbc.com/event/mens-ministry-group-2-2022-11-09/
LOCATION:West Ripley Baptist Church\, 611 West Main St\, Ripley\, WV\, 25271\, United States
ATTACH;FMTTYPE=image/jpeg:https://welcome2wrbc.com/wp-content/uploads/2018/10/Church-Logo2.jpg
END:VEVENT
BEGIN:VEVENT
DTSTART;TZID=America/New_York:20260527T183000
DTEND;TZID=America/New_York:20260527T200000
DTSTAMP:20260425T164630
CREATED:20210701T220943Z
LAST-MODIFIED:20250514T202701Z
UID:10037725-1779906600-1779912000@welcome2wrbc.com
SUMMARY:Men's Ministry Group
DESCRIPTION:Join us as our Men’s Ministry Group gathers on Wednesday  evenings at 6:30PM for a time of prayer\, study\, discipleship\, and fellowship. We are currently reading and discussing the book\, “The Case For The Creator.”
URL:https://welcome2wrbc.com/event/mens-ministry-group-2-2024-01-24/
LOCATION:West Ripley Baptist Church\, 611 West Main St\, Ripley\, WV\, 25271\, United States
ATTACH;FMTTYPE=image/jpeg:https://welcome2wrbc.com/wp-content/uploads/2018/10/Church-Logo2.jpg
END:VEVENT
BEGIN:VEVENT
DTSTART;TZID=America/New_York:20260527T183000
DTEND;TZID=America/New_York:20260527T200000
DTSTAMP:20260425T164630
CREATED:20210701T220943Z
LAST-MODIFIED:20250522T222705Z
UID:10045321-1779906600-1779912000@welcome2wrbc.com
SUMMARY:Men's Ministry Group
DESCRIPTION:Join us as our Men’s Ministry Group gathers on Wednesday  evenings at 6:30PM for a time of prayer\, study\, discipleship\, and fellowship. We are currently reading and discussing the book\, “The Case For The Creator.”
URL:https://welcome2wrbc.com/event/mens-ministry-group-2-2024-07-10/
LOCATION:West Ripley Baptist Church\, 611 West Main St\, Ripley\, WV\, 25271\, United States
ATTACH;FMTTYPE=image/jpeg:https://welcome2wrbc.com/wp-content/uploads/2018/10/Church-Logo2.jpg
END:VEVENT
BEGIN:VEVENT
DTSTART;TZID=America/New_York:20260527T183000
DTEND;TZID=America/New_York:20260527T200000
DTSTAMP:20260425T164630
CREATED:20210701T220943Z
LAST-MODIFIED:20250514T202655Z
UID:10018528-1779906600-1779912000@welcome2wrbc.com
SUMMARY:Men's Ministry Group
DESCRIPTION:Join us as our Men’s Ministry Group gathers on Wednesday  evenings at 6:30PM for a time of prayer\, study\, discipleship\, and fellowship. We are currently reading and discussing the book\, “The Case For The Creator.”
URL:https://welcome2wrbc.com/event/mens-ministry-group-2-2023-01-11/
LOCATION:West Ripley Baptist Church\, 611 West Main St\, Ripley\, WV\, 25271\, United States
ATTACH;FMTTYPE=image/jpeg:https://welcome2wrbc.com/wp-content/uploads/2018/10/Church-Logo2.jpg
END:VEVENT
BEGIN:VEVENT
DTSTART;TZID=America/New_York:20260527T183000
DTEND;TZID=America/New_York:20260527T200000
DTSTAMP:20260425T164630
CREATED:20210701T220943Z
LAST-MODIFIED:20250514T202658Z
UID:10027420-1779906600-1779912000@welcome2wrbc.com
SUMMARY:Men's Ministry Group
DESCRIPTION:Join us as our Men’s Ministry Group gathers on Wednesday  evenings at 6:30PM for a time of prayer\, study\, discipleship\, and fellowship. We are currently reading and discussing the book\, “The Case For The Creator.”
URL:https://welcome2wrbc.com/event/mens-ministry-group-2-2023-06-28/
LOCATION:West Ripley Baptist Church\, 611 West Main St\, Ripley\, WV\, 25271\, United States
ATTACH;FMTTYPE=image/jpeg:https://welcome2wrbc.com/wp-content/uploads/2018/10/Church-Logo2.jpg
END:VEVENT
BEGIN:VEVENT
DTSTART;TZID=America/New_York:20260527T183000
DTEND;TZID=America/New_York:20260527T200000
DTSTAMP:20260425T164630
CREATED:20210701T220943Z
LAST-MODIFIED:20250514T202700Z
UID:10033028-1779906600-1779912000@welcome2wrbc.com
SUMMARY:Men's Ministry Group
DESCRIPTION:Join us as our Men’s Ministry Group gathers on Wednesday  evenings at 6:30PM for a time of prayer\, study\, discipleship\, and fellowship. We are currently reading and discussing the book\, “The Case For The Creator.”
URL:https://welcome2wrbc.com/event/mens-ministry-group-2-2023-10-18/
LOCATION:West Ripley Baptist Church\, 611 West Main St\, Ripley\, WV\, 25271\, United States
ATTACH;FMTTYPE=image/jpeg:https://welcome2wrbc.com/wp-content/uploads/2018/10/Church-Logo2.jpg
END:VEVENT
BEGIN:VEVENT
DTSTART;TZID=America/New_York:20260527T183000
DTEND;TZID=America/New_York:20260527T200000
DTSTAMP:20260425T164630
CREATED:20210701T220943Z
LAST-MODIFIED:20250514T202654Z
UID:10015826-1779906600-1779912000@welcome2wrbc.com
SUMMARY:Men's Ministry Group
DESCRIPTION:Join us as our Men’s Ministry Group gathers on Wednesday  evenings at 6:30PM for a time of prayer\, study\, discipleship\, and fellowship. We are currently reading and discussing the book\, “The Case For The Creator.”
URL:https://welcome2wrbc.com/event/mens-ministry-group-2-2022-11-23/
LOCATION:West Ripley Baptist Church\, 611 West Main St\, Ripley\, WV\, 25271\, United States
ATTACH;FMTTYPE=image/jpeg:https://welcome2wrbc.com/wp-content/uploads/2018/10/Church-Logo2.jpg
END:VEVENT
BEGIN:VEVENT
DTSTART;TZID=America/New_York:20260527T183000
DTEND;TZID=America/New_York:20260527T200000
DTSTAMP:20260425T164630
CREATED:20210701T220943Z
LAST-MODIFIED:20250514T202650Z
UID:10003271-1779906600-1779912000@welcome2wrbc.com
SUMMARY:Men's Ministry Group
DESCRIPTION:Join us as our Men’s Ministry Group gathers on Wednesday  evenings at 6:30PM for a time of prayer\, study\, discipleship\, and fellowship. We are currently reading and discussing the book\, “The Case For The Creator.”
URL:https://welcome2wrbc.com/event/mens-ministry-group-2-2022-04-20/
LOCATION:West Ripley Baptist Church\, 611 West Main St\, Ripley\, WV\, 25271\, United States
ATTACH;FMTTYPE=image/jpeg:https://welcome2wrbc.com/wp-content/uploads/2018/10/Church-Logo2.jpg
END:VEVENT
BEGIN:VEVENT
DTSTART;TZID=America/New_York:20260527T183000
DTEND;TZID=America/New_York:20260527T200000
DTSTAMP:20260425T164630
CREATED:20210701T220943Z
LAST-MODIFIED:20250514T202654Z
UID:10013075-1779906600-1779912000@welcome2wrbc.com
SUMMARY:Men's Ministry Group
DESCRIPTION:Join us as our Men’s Ministry Group gathers on Wednesday  evenings at 6:30PM for a time of prayer\, study\, discipleship\, and fellowship. We are currently reading and discussing the book\, “The Case For The Creator.”
URL:https://welcome2wrbc.com/event/mens-ministry-group-2-2022-10-05/
LOCATION:West Ripley Baptist Church\, 611 West Main St\, Ripley\, WV\, 25271\, United States
ATTACH;FMTTYPE=image/jpeg:https://welcome2wrbc.com/wp-content/uploads/2018/10/Church-Logo2.jpg
END:VEVENT
BEGIN:VEVENT
DTSTART;TZID=America/New_York:20260527T183000
DTEND;TZID=America/New_York:20260527T200000
DTSTAMP:20260425T164630
CREATED:20210701T220943Z
LAST-MODIFIED:20250514T202655Z
UID:10019291-1779906600-1779912000@welcome2wrbc.com
SUMMARY:Men's Ministry Group
DESCRIPTION:Join us as our Men’s Ministry Group gathers on Wednesday  evenings at 6:30PM for a time of prayer\, study\, discipleship\, and fellowship. We are currently reading and discussing the book\, “The Case For The Creator.”
URL:https://welcome2wrbc.com/event/mens-ministry-group-2-2023-01-25/
LOCATION:West Ripley Baptist Church\, 611 West Main St\, Ripley\, WV\, 25271\, United States
ATTACH;FMTTYPE=image/jpeg:https://welcome2wrbc.com/wp-content/uploads/2018/10/Church-Logo2.jpg
END:VEVENT
BEGIN:VEVENT
DTSTART;TZID=America/New_York:20260527T183000
DTEND;TZID=America/New_York:20260527T200000
DTSTAMP:20260425T164630
CREATED:20210701T220943Z
LAST-MODIFIED:20250514T212705Z
UID:10043786-1779906600-1779912000@welcome2wrbc.com
SUMMARY:Men's Ministry Group
DESCRIPTION:Join us as our Men’s Ministry Group gathers on Wednesday  evenings at 6:30PM for a time of prayer\, study\, discipleship\, and fellowship. We are currently reading and discussing the book\, “The Case For The Creator.”
URL:https://welcome2wrbc.com/event/mens-ministry-group-2-2024-06-05/
LOCATION:West Ripley Baptist Church\, 611 West Main St\, Ripley\, WV\, 25271\, United States
ATTACH;FMTTYPE=image/jpeg:https://welcome2wrbc.com/wp-content/uploads/2018/10/Church-Logo2.jpg
END:VEVENT
BEGIN:VEVENT
DTSTART;TZID=America/New_York:20260527T183000
DTEND;TZID=America/New_York:20260527T200000
DTSTAMP:20260425T164630
CREATED:20210701T220943Z
LAST-MODIFIED:20250514T202658Z
UID:10028135-1779906600-1779912000@welcome2wrbc.com
SUMMARY:Men's Ministry Group
DESCRIPTION:Join us as our Men’s Ministry Group gathers on Wednesday  evenings at 6:30PM for a time of prayer\, study\, discipleship\, and fellowship. We are currently reading and discussing the book\, “The Case For The Creator.”
URL:https://welcome2wrbc.com/event/mens-ministry-group-2-2023-07-12/
LOCATION:West Ripley Baptist Church\, 611 West Main St\, Ripley\, WV\, 25271\, United States
ATTACH;FMTTYPE=image/jpeg:https://welcome2wrbc.com/wp-content/uploads/2018/10/Church-Logo2.jpg
END:VEVENT
BEGIN:VEVENT
DTSTART;TZID=America/New_York:20260527T183000
DTEND;TZID=America/New_York:20260527T200000
DTSTAMP:20260425T164630
CREATED:20210701T220943Z
LAST-MODIFIED:20250514T202653Z
UID:10010275-1779906600-1779912000@welcome2wrbc.com
SUMMARY:Men's Ministry Group
DESCRIPTION:Join us as our Men’s Ministry Group gathers on Wednesday  evenings at 6:30PM for a time of prayer\, study\, discipleship\, and fellowship. We are currently reading and discussing the book\, “The Case For The Creator.”
URL:https://welcome2wrbc.com/event/mens-ministry-group-2-2022-08-17/
LOCATION:West Ripley Baptist Church\, 611 West Main St\, Ripley\, WV\, 25271\, United States
ATTACH;FMTTYPE=image/jpeg:https://welcome2wrbc.com/wp-content/uploads/2018/10/Church-Logo2.jpg
END:VEVENT
BEGIN:VEVENT
DTSTART;TZID=America/New_York:20260527T183000
DTEND;TZID=America/New_York:20260527T200000
DTSTAMP:20260425T164630
CREATED:20210701T220943Z
LAST-MODIFIED:20250514T202652Z
UID:10007426-1779906600-1779912000@welcome2wrbc.com
SUMMARY:Men's Ministry Group
DESCRIPTION:Join us as our Men’s Ministry Group gathers on Wednesday  evenings at 6:30PM for a time of prayer\, study\, discipleship\, and fellowship. We are currently reading and discussing the book\, “The Case For The Creator.”
URL:https://welcome2wrbc.com/event/mens-ministry-group-2-2022-06-29/
LOCATION:West Ripley Baptist Church\, 611 West Main St\, Ripley\, WV\, 25271\, United States
ATTACH;FMTTYPE=image/jpeg:https://welcome2wrbc.com/wp-content/uploads/2018/10/Church-Logo2.jpg
END:VEVENT
BEGIN:VEVENT
DTSTART;TZID=America/New_York:20260527T183000
DTEND;TZID=America/New_York:20260527T200000
DTSTAMP:20260425T164630
CREATED:20210701T220943Z
LAST-MODIFIED:20250514T205703Z
UID:10040000-1779906600-1779912000@welcome2wrbc.com
SUMMARY:Men's Ministry Group
DESCRIPTION:Join us as our Men’s Ministry Group gathers on Wednesday  evenings at 6:30PM for a time of prayer\, study\, discipleship\, and fellowship. We are currently reading and discussing the book\, “The Case For The Creator.”
URL:https://welcome2wrbc.com/event/mens-ministry-group-2-2024-03-13/
LOCATION:West Ripley Baptist Church\, 611 West Main St\, Ripley\, WV\, 25271\, United States
ATTACH;FMTTYPE=image/jpeg:https://welcome2wrbc.com/wp-content/uploads/2018/10/Church-Logo2.jpg
END:VEVENT
BEGIN:VEVENT
DTSTART;TZID=America/New_York:20260527T183000
DTEND;TZID=America/New_York:20260527T200000
DTSTAMP:20260425T164630
CREATED:20210701T220943Z
LAST-MODIFIED:20250514T202657Z
UID:10023785-1779906600-1779912000@welcome2wrbc.com
SUMMARY:Men's Ministry Group
DESCRIPTION:Join us as our Men’s Ministry Group gathers on Wednesday  evenings at 6:30PM for a time of prayer\, study\, discipleship\, and fellowship. We are currently reading and discussing the book\, “The Case For The Creator.”
URL:https://welcome2wrbc.com/event/mens-ministry-group-2-2023-04-19/
LOCATION:West Ripley Baptist Church\, 611 West Main St\, Ripley\, WV\, 25271\, United States
ATTACH;FMTTYPE=image/jpeg:https://welcome2wrbc.com/wp-content/uploads/2018/10/Church-Logo2.jpg
END:VEVENT
BEGIN:VEVENT
DTSTART;TZID=America/New_York:20260527T183000
DTEND;TZID=America/New_York:20260527T200000
DTSTAMP:20260425T164630
CREATED:20210701T220943Z
LAST-MODIFIED:20250514T202651Z
UID:10005361-1779906600-1779912000@welcome2wrbc.com
SUMMARY:Men's Ministry Group
DESCRIPTION:Join us as our Men’s Ministry Group gathers on Wednesday  evenings at 6:30PM for a time of prayer\, study\, discipleship\, and fellowship. We are currently reading and discussing the book\, “The Case For The Creator.”
URL:https://welcome2wrbc.com/event/mens-ministry-group-2-2022-05-25/
LOCATION:West Ripley Baptist Church\, 611 West Main St\, Ripley\, WV\, 25271\, United States
ATTACH;FMTTYPE=image/jpeg:https://welcome2wrbc.com/wp-content/uploads/2018/10/Church-Logo2.jpg
END:VEVENT
BEGIN:VEVENT
DTSTART;TZID=America/New_York:20260527T183000
DTEND;TZID=America/New_York:20260527T200000
DTSTAMP:20260425T164630
CREATED:20210701T220943Z
LAST-MODIFIED:20250514T202659Z
UID:10032341-1779906600-1779912000@welcome2wrbc.com
SUMMARY:Men's Ministry Group
DESCRIPTION:Join us as our Men’s Ministry Group gathers on Wednesday  evenings at 6:30PM for a time of prayer\, study\, discipleship\, and fellowship. We are currently reading and discussing the book\, “The Case For The Creator.”
URL:https://welcome2wrbc.com/event/mens-ministry-group-2-2023-10-04/
LOCATION:West Ripley Baptist Church\, 611 West Main St\, Ripley\, WV\, 25271\, United States
ATTACH;FMTTYPE=image/jpeg:https://welcome2wrbc.com/wp-content/uploads/2018/10/Church-Logo2.jpg
END:VEVENT
BEGIN:VEVENT
DTSTART;TZID=America/New_York:20260527T183000
DTEND;TZID=America/New_York:20260527T200000
DTSTAMP:20260425T164630
CREATED:20210701T220943Z
LAST-MODIFIED:20250514T202656Z
UID:10021181-1779906600-1779912000@welcome2wrbc.com
SUMMARY:Men's Ministry Group
DESCRIPTION:Join us as our Men’s Ministry Group gathers on Wednesday  evenings at 6:30PM for a time of prayer\, study\, discipleship\, and fellowship. We are currently reading and discussing the book\, “The Case For The Creator.”
URL:https://welcome2wrbc.com/event/mens-ministry-group-2-2023-03-01/
LOCATION:West Ripley Baptist Church\, 611 West Main St\, Ripley\, WV\, 25271\, United States
ATTACH;FMTTYPE=image/jpeg:https://welcome2wrbc.com/wp-content/uploads/2018/10/Church-Logo2.jpg
END:VEVENT
BEGIN:VEVENT
DTSTART;TZID=America/New_York:20260527T183000
DTEND;TZID=America/New_York:20260527T200000
DTSTAMP:20260425T164630
CREATED:20210701T220943Z
LAST-MODIFIED:20250514T202651Z
UID:10006190-1779906600-1779912000@welcome2wrbc.com
SUMMARY:Men's Ministry Group
DESCRIPTION:Join us as our Men’s Ministry Group gathers on Wednesday  evenings at 6:30PM for a time of prayer\, study\, discipleship\, and fellowship. We are currently reading and discussing the book\, “The Case For The Creator.”
URL:https://welcome2wrbc.com/event/mens-ministry-group-2-2022-06-08/
LOCATION:West Ripley Baptist Church\, 611 West Main St\, Ripley\, WV\, 25271\, United States
ATTACH;FMTTYPE=image/jpeg:https://welcome2wrbc.com/wp-content/uploads/2018/10/Church-Logo2.jpg
END:VEVENT
BEGIN:VEVENT
DTSTART;TZID=America/New_York:20260527T183000
DTEND;TZID=America/New_York:20260527T200000
DTSTAMP:20260425T164630
CREATED:20210701T220943Z
LAST-MODIFIED:20250514T202702Z
UID:10038380-1779906600-1779912000@welcome2wrbc.com
SUMMARY:Men's Ministry Group
DESCRIPTION:Join us as our Men’s Ministry Group gathers on Wednesday  evenings at 6:30PM for a time of prayer\, study\, discipleship\, and fellowship. We are currently reading and discussing the book\, “The Case For The Creator.”
URL:https://welcome2wrbc.com/event/mens-ministry-group-2-2024-02-07/
LOCATION:West Ripley Baptist Church\, 611 West Main St\, Ripley\, WV\, 25271\, United States
ATTACH;FMTTYPE=image/jpeg:https://welcome2wrbc.com/wp-content/uploads/2018/10/Church-Logo2.jpg
END:VEVENT
BEGIN:VEVENT
DTSTART;TZID=America/New_York:20260527T183000
DTEND;TZID=America/New_York:20260527T200000
DTSTAMP:20260425T164630
CREATED:20210701T220943Z
LAST-MODIFIED:20250514T202656Z
UID:10021930-1779906600-1779912000@welcome2wrbc.com
SUMMARY:Men's Ministry Group
DESCRIPTION:Join us as our Men’s Ministry Group gathers on Wednesday  evenings at 6:30PM for a time of prayer\, study\, discipleship\, and fellowship. We are currently reading and discussing the book\, “The Case For The Creator.”
URL:https://welcome2wrbc.com/event/mens-ministry-group-2-2023-03-15/
LOCATION:West Ripley Baptist Church\, 611 West Main St\, Ripley\, WV\, 25271\, United States
ATTACH;FMTTYPE=image/jpeg:https://welcome2wrbc.com/wp-content/uploads/2018/10/Church-Logo2.jpg
END:VEVENT
BEGIN:VEVENT
DTSTART;TZID=America/New_York:20260527T183000
DTEND;TZID=America/New_York:20260527T200000
DTSTAMP:20260425T164630
CREATED:20210701T220943Z
LAST-MODIFIED:20250514T202659Z
UID:10030606-1779906600-1779912000@welcome2wrbc.com
SUMMARY:Men's Ministry Group
DESCRIPTION:Join us as our Men’s Ministry Group gathers on Wednesday  evenings at 6:30PM for a time of prayer\, study\, discipleship\, and fellowship. We are currently reading and discussing the book\, “The Case For The Creator.”
URL:https://welcome2wrbc.com/event/mens-ministry-group-2-2023-08-30/
LOCATION:West Ripley Baptist Church\, 611 West Main St\, Ripley\, WV\, 25271\, United States
ATTACH;FMTTYPE=image/jpeg:https://welcome2wrbc.com/wp-content/uploads/2018/10/Church-Logo2.jpg
END:VEVENT
BEGIN:VEVENT
DTSTART;TZID=America/New_York:20260527T183000
DTEND;TZID=America/New_York:20260527T200000
DTSTAMP:20260425T164630
CREATED:20210701T220943Z
LAST-MODIFIED:20250514T202701Z
UID:10036070-1779906600-1779912000@welcome2wrbc.com
SUMMARY:Men's Ministry Group
DESCRIPTION:Join us as our Men’s Ministry Group gathers on Wednesday  evenings at 6:30PM for a time of prayer\, study\, discipleship\, and fellowship. We are currently reading and discussing the book\, “The Case For The Creator.”
URL:https://welcome2wrbc.com/event/mens-ministry-group-2-2023-12-20/
LOCATION:West Ripley Baptist Church\, 611 West Main St\, Ripley\, WV\, 25271\, United States
ATTACH;FMTTYPE=image/jpeg:https://welcome2wrbc.com/wp-content/uploads/2018/10/Church-Logo2.jpg
END:VEVENT
BEGIN:VEVENT
DTSTART;TZID=America/New_York:20260527T183000
DTEND;TZID=America/New_York:20260527T200000
DTSTAMP:20260425T164630
CREATED:20210701T220943Z
LAST-MODIFIED:20250514T202701Z
UID:10036735-1779906600-1779912000@welcome2wrbc.com
SUMMARY:Men's Ministry Group
DESCRIPTION:Join us as our Men’s Ministry Group gathers on Wednesday  evenings at 6:30PM for a time of prayer\, study\, discipleship\, and fellowship. We are currently reading and discussing the book\, “The Case For The Creator.”
URL:https://welcome2wrbc.com/event/mens-ministry-group-2-2024-01-03/
LOCATION:West Ripley Baptist Church\, 611 West Main St\, Ripley\, WV\, 25271\, United States
ATTACH;FMTTYPE=image/jpeg:https://welcome2wrbc.com/wp-content/uploads/2018/10/Church-Logo2.jpg
END:VEVENT
END:VCALENDAR