BEGIN:VCALENDAR
VERSION:2.0
PRODID:-//West Ripley Baptist Church - ECPv6.15.20//NONSGML v1.0//EN
CALSCALE:GREGORIAN
METHOD:PUBLISH
X-ORIGINAL-URL:https://welcome2wrbc.com
X-WR-CALDESC:Events for West Ripley Baptist Church
REFRESH-INTERVAL;VALUE=DURATION:PT1H
X-Robots-Tag:noindex
X-PUBLISHED-TTL:PT1H
BEGIN:VTIMEZONE
TZID:America/New_York
BEGIN:DAYLIGHT
TZOFFSETFROM:-0500
TZOFFSETTO:-0400
TZNAME:EDT
DTSTART:20250309T070000
END:DAYLIGHT
BEGIN:STANDARD
TZOFFSETFROM:-0400
TZOFFSETTO:-0500
TZNAME:EST
DTSTART:20251102T060000
END:STANDARD
BEGIN:DAYLIGHT
TZOFFSETFROM:-0500
TZOFFSETTO:-0400
TZNAME:EDT
DTSTART:20260308T070000
END:DAYLIGHT
BEGIN:STANDARD
TZOFFSETFROM:-0400
TZOFFSETTO:-0500
TZNAME:EST
DTSTART:20261101T060000
END:STANDARD
BEGIN:DAYLIGHT
TZOFFSETFROM:-0500
TZOFFSETTO:-0400
TZNAME:EDT
DTSTART:20270314T070000
END:DAYLIGHT
BEGIN:STANDARD
TZOFFSETFROM:-0400
TZOFFSETTO:-0500
TZNAME:EST
DTSTART:20271107T060000
END:STANDARD
END:VTIMEZONE
BEGIN:VEVENT
DTSTART;TZID=America/New_York:20260325T183000
DTEND;TZID=America/New_York:20260325T200000
DTSTAMP:20260425T181931
CREATED:20210701T220943Z
LAST-MODIFIED:20250514T202701Z
UID:10036394-1774463400-1774468800@welcome2wrbc.com
SUMMARY:Men's Ministry Group
DESCRIPTION:Join us as our Men’s Ministry Group gathers on Wednesday  evenings at 6:30PM for a time of prayer\, study\, discipleship\, and fellowship. We are currently reading and discussing the book\, “The Case For The Creator.”
URL:https://welcome2wrbc.com/event/mens-ministry-group-2-2023-12-27/
LOCATION:West Ripley Baptist Church\, 611 West Main St\, Ripley\, WV\, 25271\, United States
ATTACH;FMTTYPE=image/jpeg:https://welcome2wrbc.com/wp-content/uploads/2018/10/Church-Logo2.jpg
END:VEVENT
BEGIN:VEVENT
DTSTART;TZID=America/New_York:20260325T183000
DTEND;TZID=America/New_York:20260325T200000
DTSTAMP:20260425T181931
CREATED:20210701T220943Z
LAST-MODIFIED:20250514T202654Z
UID:10015817-1774463400-1774468800@welcome2wrbc.com
SUMMARY:Men's Ministry Group
DESCRIPTION:Join us as our Men’s Ministry Group gathers on Wednesday  evenings at 6:30PM for a time of prayer\, study\, discipleship\, and fellowship. We are currently reading and discussing the book\, “The Case For The Creator.”
URL:https://welcome2wrbc.com/event/mens-ministry-group-2-2022-11-23/
LOCATION:West Ripley Baptist Church\, 611 West Main St\, Ripley\, WV\, 25271\, United States
ATTACH;FMTTYPE=image/jpeg:https://welcome2wrbc.com/wp-content/uploads/2018/10/Church-Logo2.jpg
END:VEVENT
BEGIN:VEVENT
DTSTART;TZID=America/New_York:20260325T183000
DTEND;TZID=America/New_York:20260325T200000
DTSTAMP:20260425T181931
CREATED:20210701T220943Z
LAST-MODIFIED:20250514T202658Z
UID:10028837-1774463400-1774468800@welcome2wrbc.com
SUMMARY:Men's Ministry Group
DESCRIPTION:Join us as our Men’s Ministry Group gathers on Wednesday  evenings at 6:30PM for a time of prayer\, study\, discipleship\, and fellowship. We are currently reading and discussing the book\, “The Case For The Creator.”
URL:https://welcome2wrbc.com/event/mens-ministry-group-2-2023-07-26/
LOCATION:West Ripley Baptist Church\, 611 West Main St\, Ripley\, WV\, 25271\, United States
ATTACH;FMTTYPE=image/jpeg:https://welcome2wrbc.com/wp-content/uploads/2018/10/Church-Logo2.jpg
END:VEVENT
BEGIN:VEVENT
DTSTART;TZID=America/New_York:20260325T183000
DTEND;TZID=America/New_York:20260325T200000
DTSTAMP:20260425T181931
CREATED:20210701T220943Z
LAST-MODIFIED:20250514T202656Z
UID:10020041-1774463400-1774468800@welcome2wrbc.com
SUMMARY:Men's Ministry Group
DESCRIPTION:Join us as our Men’s Ministry Group gathers on Wednesday  evenings at 6:30PM for a time of prayer\, study\, discipleship\, and fellowship. We are currently reading and discussing the book\, “The Case For The Creator.”
URL:https://welcome2wrbc.com/event/mens-ministry-group-2-2023-02-08/
LOCATION:West Ripley Baptist Church\, 611 West Main St\, Ripley\, WV\, 25271\, United States
ATTACH;FMTTYPE=image/jpeg:https://welcome2wrbc.com/wp-content/uploads/2018/10/Church-Logo2.jpg
END:VEVENT
BEGIN:VEVENT
DTSTART;TZID=America/New_York:20260325T183000
DTEND;TZID=America/New_York:20260325T200000
DTSTAMP:20260425T181931
CREATED:20210701T220943Z
LAST-MODIFIED:20250514T205703Z
UID:10040951-1774463400-1774468800@welcome2wrbc.com
SUMMARY:Men's Ministry Group
DESCRIPTION:Join us as our Men’s Ministry Group gathers on Wednesday  evenings at 6:30PM for a time of prayer\, study\, discipleship\, and fellowship. We are currently reading and discussing the book\, “The Case For The Creator.”
URL:https://welcome2wrbc.com/event/mens-ministry-group-2-2024-04-03/
LOCATION:West Ripley Baptist Church\, 611 West Main St\, Ripley\, WV\, 25271\, United States
ATTACH;FMTTYPE=image/jpeg:https://welcome2wrbc.com/wp-content/uploads/2018/10/Church-Logo2.jpg
END:VEVENT
BEGIN:VEVENT
DTSTART;TZID=America/New_York:20260325T183000
DTEND;TZID=America/New_York:20260325T200000
DTSTAMP:20260425T181931
CREATED:20210701T220943Z
LAST-MODIFIED:20250514T202653Z
UID:10009862-1774463400-1774468800@welcome2wrbc.com
SUMMARY:Men's Ministry Group
DESCRIPTION:Join us as our Men’s Ministry Group gathers on Wednesday  evenings at 6:30PM for a time of prayer\, study\, discipleship\, and fellowship. We are currently reading and discussing the book\, “The Case For The Creator.”
URL:https://welcome2wrbc.com/event/mens-ministry-group-2-2022-08-10/
LOCATION:West Ripley Baptist Church\, 611 West Main St\, Ripley\, WV\, 25271\, United States
ATTACH;FMTTYPE=image/jpeg:https://welcome2wrbc.com/wp-content/uploads/2018/10/Church-Logo2.jpg
END:VEVENT
BEGIN:VEVENT
DTSTART;TZID=America/New_York:20260325T183000
DTEND;TZID=America/New_York:20260325T200000
DTSTAMP:20260425T181931
CREATED:20210701T220943Z
LAST-MODIFIED:20250514T202656Z
UID:10021921-1774463400-1774468800@welcome2wrbc.com
SUMMARY:Men's Ministry Group
DESCRIPTION:Join us as our Men’s Ministry Group gathers on Wednesday  evenings at 6:30PM for a time of prayer\, study\, discipleship\, and fellowship. We are currently reading and discussing the book\, “The Case For The Creator.”
URL:https://welcome2wrbc.com/event/mens-ministry-group-2-2023-03-15/
LOCATION:West Ripley Baptist Church\, 611 West Main St\, Ripley\, WV\, 25271\, United States
ATTACH;FMTTYPE=image/jpeg:https://welcome2wrbc.com/wp-content/uploads/2018/10/Church-Logo2.jpg
END:VEVENT
BEGIN:VEVENT
DTSTART;TZID=America/New_York:20260325T183000
DTEND;TZID=America/New_York:20260325T200000
DTSTAMP:20260425T181931
CREATED:20210701T220943Z
LAST-MODIFIED:20250514T202700Z
UID:10032676-1774463400-1774468800@welcome2wrbc.com
SUMMARY:Men's Ministry Group
DESCRIPTION:Join us as our Men’s Ministry Group gathers on Wednesday  evenings at 6:30PM for a time of prayer\, study\, discipleship\, and fellowship. We are currently reading and discussing the book\, “The Case For The Creator.”
URL:https://welcome2wrbc.com/event/mens-ministry-group-2-2023-10-11/
LOCATION:West Ripley Baptist Church\, 611 West Main St\, Ripley\, WV\, 25271\, United States
ATTACH;FMTTYPE=image/jpeg:https://welcome2wrbc.com/wp-content/uploads/2018/10/Church-Logo2.jpg
END:VEVENT
BEGIN:VEVENT
DTSTART;TZID=America/New_York:20260325T183000
DTEND;TZID=America/New_York:20260325T200000
DTSTAMP:20260425T181931
CREATED:20210701T220943Z
LAST-MODIFIED:20250514T205704Z
UID:10042531-1774463400-1774468800@welcome2wrbc.com
SUMMARY:Men's Ministry Group
DESCRIPTION:Join us as our Men’s Ministry Group gathers on Wednesday  evenings at 6:30PM for a time of prayer\, study\, discipleship\, and fellowship. We are currently reading and discussing the book\, “The Case For The Creator.”
URL:https://welcome2wrbc.com/event/mens-ministry-group-2-2024-05-08/
LOCATION:West Ripley Baptist Church\, 611 West Main St\, Ripley\, WV\, 25271\, United States
ATTACH;FMTTYPE=image/jpeg:https://welcome2wrbc.com/wp-content/uploads/2018/10/Church-Logo2.jpg
END:VEVENT
BEGIN:VEVENT
DTSTART;TZID=America/New_York:20260325T183000
DTEND;TZID=America/New_York:20260325T200000
DTSTAMP:20260425T181931
CREATED:20210701T220943Z
LAST-MODIFIED:20250514T202653Z
UID:10011872-1774463400-1774468800@welcome2wrbc.com
SUMMARY:Men's Ministry Group
DESCRIPTION:Join us as our Men’s Ministry Group gathers on Wednesday  evenings at 6:30PM for a time of prayer\, study\, discipleship\, and fellowship. We are currently reading and discussing the book\, “The Case For The Creator.”
URL:https://welcome2wrbc.com/event/mens-ministry-group-2-2022-09-14/
LOCATION:West Ripley Baptist Church\, 611 West Main St\, Ripley\, WV\, 25271\, United States
ATTACH;FMTTYPE=image/jpeg:https://welcome2wrbc.com/wp-content/uploads/2018/10/Church-Logo2.jpg
END:VEVENT
BEGIN:VEVENT
DTSTART;TZID=America/New_York:20260325T183000
DTEND;TZID=America/New_York:20260325T200000
DTSTAMP:20260425T181931
CREATED:20210701T220943Z
LAST-MODIFIED:20250514T212705Z
UID:10043777-1774463400-1774468800@welcome2wrbc.com
SUMMARY:Men's Ministry Group
DESCRIPTION:Join us as our Men’s Ministry Group gathers on Wednesday  evenings at 6:30PM for a time of prayer\, study\, discipleship\, and fellowship. We are currently reading and discussing the book\, “The Case For The Creator.”
URL:https://welcome2wrbc.com/event/mens-ministry-group-2-2024-06-05/
LOCATION:West Ripley Baptist Church\, 611 West Main St\, Ripley\, WV\, 25271\, United States
ATTACH;FMTTYPE=image/jpeg:https://welcome2wrbc.com/wp-content/uploads/2018/10/Church-Logo2.jpg
END:VEVENT
BEGIN:VEVENT
DTSTART;TZID=America/New_York:20260325T183000
DTEND;TZID=America/New_York:20260325T200000
DTSTAMP:20260425T181931
CREATED:20210701T220943Z
LAST-MODIFIED:20250514T202654Z
UID:10013462-1774463400-1774468800@welcome2wrbc.com
SUMMARY:Men's Ministry Group
DESCRIPTION:Join us as our Men’s Ministry Group gathers on Wednesday  evenings at 6:30PM for a time of prayer\, study\, discipleship\, and fellowship. We are currently reading and discussing the book\, “The Case For The Creator.”
URL:https://welcome2wrbc.com/event/mens-ministry-group-2-2022-10-12/
LOCATION:West Ripley Baptist Church\, 611 West Main St\, Ripley\, WV\, 25271\, United States
ATTACH;FMTTYPE=image/jpeg:https://welcome2wrbc.com/wp-content/uploads/2018/10/Church-Logo2.jpg
END:VEVENT
BEGIN:VEVENT
DTSTART;TZID=America/New_York:20260325T183000
DTEND;TZID=America/New_York:20260325T200000
DTSTAMP:20260425T181931
CREATED:20210701T220943Z
LAST-MODIFIED:20250514T202657Z
UID:10025242-1774463400-1774468800@welcome2wrbc.com
SUMMARY:Men's Ministry Group
DESCRIPTION:Join us as our Men’s Ministry Group gathers on Wednesday  evenings at 6:30PM for a time of prayer\, study\, discipleship\, and fellowship. We are currently reading and discussing the book\, “The Case For The Creator.”
URL:https://welcome2wrbc.com/event/mens-ministry-group-2-2023-05-17/
LOCATION:West Ripley Baptist Church\, 611 West Main St\, Ripley\, WV\, 25271\, United States
ATTACH;FMTTYPE=image/jpeg:https://welcome2wrbc.com/wp-content/uploads/2018/10/Church-Logo2.jpg
END:VEVENT
BEGIN:VEVENT
DTSTART;TZID=America/New_York:20260325T183000
DTEND;TZID=America/New_York:20260325T200000
DTSTAMP:20260425T181931
CREATED:20210701T220943Z
LAST-MODIFIED:20250514T202701Z
UID:10036061-1774463400-1774468800@welcome2wrbc.com
SUMMARY:Men's Ministry Group
DESCRIPTION:Join us as our Men’s Ministry Group gathers on Wednesday  evenings at 6:30PM for a time of prayer\, study\, discipleship\, and fellowship. We are currently reading and discussing the book\, “The Case For The Creator.”
URL:https://welcome2wrbc.com/event/mens-ministry-group-2-2023-12-20/
LOCATION:West Ripley Baptist Church\, 611 West Main St\, Ripley\, WV\, 25271\, United States
ATTACH;FMTTYPE=image/jpeg:https://welcome2wrbc.com/wp-content/uploads/2018/10/Church-Logo2.jpg
END:VEVENT
BEGIN:VEVENT
DTSTART;TZID=America/New_York:20260325T183000
DTEND;TZID=America/New_York:20260325T200000
DTSTAMP:20260425T181931
CREATED:20210701T220943Z
LAST-MODIFIED:20250514T202651Z
UID:10003682-1774463400-1774468800@welcome2wrbc.com
SUMMARY:Men's Ministry Group
DESCRIPTION:Join us as our Men’s Ministry Group gathers on Wednesday  evenings at 6:30PM for a time of prayer\, study\, discipleship\, and fellowship. We are currently reading and discussing the book\, “The Case For The Creator.”
URL:https://welcome2wrbc.com/event/mens-ministry-group-2-2022-04-27/
LOCATION:West Ripley Baptist Church\, 611 West Main St\, Ripley\, WV\, 25271\, United States
ATTACH;FMTTYPE=image/jpeg:https://welcome2wrbc.com/wp-content/uploads/2018/10/Church-Logo2.jpg
END:VEVENT
BEGIN:VEVENT
DTSTART;TZID=America/New_York:20260325T183000
DTEND;TZID=America/New_York:20260325T200000
DTSTAMP:20260425T181931
CREATED:20210701T220943Z
LAST-MODIFIED:20250514T202658Z
UID:10026692-1774463400-1774468800@welcome2wrbc.com
SUMMARY:Men's Ministry Group
DESCRIPTION:Join us as our Men’s Ministry Group gathers on Wednesday  evenings at 6:30PM for a time of prayer\, study\, discipleship\, and fellowship. We are currently reading and discussing the book\, “The Case For The Creator.”
URL:https://welcome2wrbc.com/event/mens-ministry-group-2-2023-06-14/
LOCATION:West Ripley Baptist Church\, 611 West Main St\, Ripley\, WV\, 25271\, United States
ATTACH;FMTTYPE=image/jpeg:https://welcome2wrbc.com/wp-content/uploads/2018/10/Church-Logo2.jpg
END:VEVENT
BEGIN:VEVENT
DTSTART;TZID=America/New_York:20260325T183000
DTEND;TZID=America/New_York:20260325T200000
DTSTAMP:20260425T181931
CREATED:20210701T220943Z
LAST-MODIFIED:20250514T202701Z
UID:10037716-1774463400-1774468800@welcome2wrbc.com
SUMMARY:Men's Ministry Group
DESCRIPTION:Join us as our Men’s Ministry Group gathers on Wednesday  evenings at 6:30PM for a time of prayer\, study\, discipleship\, and fellowship. We are currently reading and discussing the book\, “The Case For The Creator.”
URL:https://welcome2wrbc.com/event/mens-ministry-group-2-2024-01-24/
LOCATION:West Ripley Baptist Church\, 611 West Main St\, Ripley\, WV\, 25271\, United States
ATTACH;FMTTYPE=image/jpeg:https://welcome2wrbc.com/wp-content/uploads/2018/10/Church-Logo2.jpg
END:VEVENT
BEGIN:VEVENT
DTSTART;TZID=America/New_York:20260325T183000
DTEND;TZID=America/New_York:20260325T200000
DTSTAMP:20260425T181931
CREATED:20210701T220943Z
LAST-MODIFIED:20250514T202651Z
UID:10005767-1774463400-1774468800@welcome2wrbc.com
SUMMARY:Men's Ministry Group
DESCRIPTION:Join us as our Men’s Ministry Group gathers on Wednesday  evenings at 6:30PM for a time of prayer\, study\, discipleship\, and fellowship. We are currently reading and discussing the book\, “The Case For The Creator.”
URL:https://welcome2wrbc.com/event/mens-ministry-group-2-2022-06-01/
LOCATION:West Ripley Baptist Church\, 611 West Main St\, Ripley\, WV\, 25271\, United States
ATTACH;FMTTYPE=image/jpeg:https://welcome2wrbc.com/wp-content/uploads/2018/10/Church-Logo2.jpg
END:VEVENT
BEGIN:VEVENT
DTSTART;TZID=America/New_York:20260325T183000
DTEND;TZID=America/New_York:20260325T200000
DTSTAMP:20260425T181931
CREATED:20210701T220943Z
LAST-MODIFIED:20250514T202655Z
UID:10017752-1774463400-1774468800@welcome2wrbc.com
SUMMARY:Men's Ministry Group
DESCRIPTION:Join us as our Men’s Ministry Group gathers on Wednesday  evenings at 6:30PM for a time of prayer\, study\, discipleship\, and fellowship. We are currently reading and discussing the book\, “The Case For The Creator.”
URL:https://welcome2wrbc.com/event/mens-ministry-group-2-2022-12-28/
LOCATION:West Ripley Baptist Church\, 611 West Main St\, Ripley\, WV\, 25271\, United States
ATTACH;FMTTYPE=image/jpeg:https://welcome2wrbc.com/wp-content/uploads/2018/10/Church-Logo2.jpg
END:VEVENT
BEGIN:VEVENT
DTSTART;TZID=America/New_York:20260325T183000
DTEND;TZID=America/New_York:20260325T200000
DTSTAMP:20260425T181931
CREATED:20210701T220943Z
LAST-MODIFIED:20250514T202702Z
UID:10039346-1774463400-1774468800@welcome2wrbc.com
SUMMARY:Men's Ministry Group
DESCRIPTION:Join us as our Men’s Ministry Group gathers on Wednesday  evenings at 6:30PM for a time of prayer\, study\, discipleship\, and fellowship. We are currently reading and discussing the book\, “The Case For The Creator.”
URL:https://welcome2wrbc.com/event/mens-ministry-group-2-2024-02-28/
LOCATION:West Ripley Baptist Church\, 611 West Main St\, Ripley\, WV\, 25271\, United States
ATTACH;FMTTYPE=image/jpeg:https://welcome2wrbc.com/wp-content/uploads/2018/10/Church-Logo2.jpg
END:VEVENT
BEGIN:VEVENT
DTSTART;TZID=America/New_York:20260325T183000
DTEND;TZID=America/New_York:20260325T200000
DTSTAMP:20260425T181931
CREATED:20210701T220943Z
LAST-MODIFIED:20250514T202652Z
UID:10007417-1774463400-1774468800@welcome2wrbc.com
SUMMARY:Men's Ministry Group
DESCRIPTION:Join us as our Men’s Ministry Group gathers on Wednesday  evenings at 6:30PM for a time of prayer\, study\, discipleship\, and fellowship. We are currently reading and discussing the book\, “The Case For The Creator.”
URL:https://welcome2wrbc.com/event/mens-ministry-group-2-2022-06-29/
LOCATION:West Ripley Baptist Church\, 611 West Main St\, Ripley\, WV\, 25271\, United States
ATTACH;FMTTYPE=image/jpeg:https://welcome2wrbc.com/wp-content/uploads/2018/10/Church-Logo2.jpg
END:VEVENT
BEGIN:VEVENT
DTSTART;TZID=America/New_York:20260325T183000
DTEND;TZID=America/New_York:20260325T200000
DTSTAMP:20260425T181931
CREATED:20210701T220943Z
LAST-MODIFIED:20250514T202655Z
UID:10019662-1774463400-1774468800@welcome2wrbc.com
SUMMARY:Men's Ministry Group
DESCRIPTION:Join us as our Men’s Ministry Group gathers on Wednesday  evenings at 6:30PM for a time of prayer\, study\, discipleship\, and fellowship. We are currently reading and discussing the book\, “The Case For The Creator.”
URL:https://welcome2wrbc.com/event/mens-ministry-group-2-2023-02-01/
LOCATION:West Ripley Baptist Church\, 611 West Main St\, Ripley\, WV\, 25271\, United States
ATTACH;FMTTYPE=image/jpeg:https://welcome2wrbc.com/wp-content/uploads/2018/10/Church-Logo2.jpg
END:VEVENT
BEGIN:VEVENT
DTSTART;TZID=America/New_York:20260325T183000
DTEND;TZID=America/New_York:20260325T200000
DTSTAMP:20260425T181931
CREATED:20210701T220943Z
LAST-MODIFIED:20250514T202659Z
UID:10030597-1774463400-1774468800@welcome2wrbc.com
SUMMARY:Men's Ministry Group
DESCRIPTION:Join us as our Men’s Ministry Group gathers on Wednesday  evenings at 6:30PM for a time of prayer\, study\, discipleship\, and fellowship. We are currently reading and discussing the book\, “The Case For The Creator.”
URL:https://welcome2wrbc.com/event/mens-ministry-group-2-2023-08-30/
LOCATION:West Ripley Baptist Church\, 611 West Main St\, Ripley\, WV\, 25271\, United States
ATTACH;FMTTYPE=image/jpeg:https://welcome2wrbc.com/wp-content/uploads/2018/10/Church-Logo2.jpg
END:VEVENT
BEGIN:VEVENT
DTSTART;TZID=America/New_York:20260325T183000
DTEND;TZID=America/New_York:20260325T200000
DTSTAMP:20260425T181931
CREATED:20210701T220943Z
LAST-MODIFIED:20250514T202656Z
UID:10021547-1774463400-1774468800@welcome2wrbc.com
SUMMARY:Men's Ministry Group
DESCRIPTION:Join us as our Men’s Ministry Group gathers on Wednesday  evenings at 6:30PM for a time of prayer\, study\, discipleship\, and fellowship. We are currently reading and discussing the book\, “The Case For The Creator.”
URL:https://welcome2wrbc.com/event/mens-ministry-group-2-2023-03-08/
LOCATION:West Ripley Baptist Church\, 611 West Main St\, Ripley\, WV\, 25271\, United States
ATTACH;FMTTYPE=image/jpeg:https://welcome2wrbc.com/wp-content/uploads/2018/10/Church-Logo2.jpg
END:VEVENT
BEGIN:VEVENT
DTSTART;TZID=America/New_York:20260325T183000
DTEND;TZID=America/New_York:20260325T200000
DTSTAMP:20260425T181931
CREATED:20210701T220943Z
LAST-MODIFIED:20250514T202659Z
UID:10032332-1774463400-1774468800@welcome2wrbc.com
SUMMARY:Men's Ministry Group
DESCRIPTION:Join us as our Men’s Ministry Group gathers on Wednesday  evenings at 6:30PM for a time of prayer\, study\, discipleship\, and fellowship. We are currently reading and discussing the book\, “The Case For The Creator.”
URL:https://welcome2wrbc.com/event/mens-ministry-group-2-2023-10-04/
LOCATION:West Ripley Baptist Church\, 611 West Main St\, Ripley\, WV\, 25271\, United States
ATTACH;FMTTYPE=image/jpeg:https://welcome2wrbc.com/wp-content/uploads/2018/10/Church-Logo2.jpg
END:VEVENT
BEGIN:VEVENT
DTSTART;TZID=America/New_York:20260325T183000
DTEND;TZID=America/New_York:20260325T200000
DTSTAMP:20260425T181931
CREATED:20210701T220943Z
LAST-MODIFIED:20250514T202653Z
UID:10011472-1774463400-1774468800@welcome2wrbc.com
SUMMARY:Men's Ministry Group
DESCRIPTION:Join us as our Men’s Ministry Group gathers on Wednesday  evenings at 6:30PM for a time of prayer\, study\, discipleship\, and fellowship. We are currently reading and discussing the book\, “The Case For The Creator.”
URL:https://welcome2wrbc.com/event/mens-ministry-group-2-2022-09-07/
LOCATION:West Ripley Baptist Church\, 611 West Main St\, Ripley\, WV\, 25271\, United States
ATTACH;FMTTYPE=image/jpeg:https://welcome2wrbc.com/wp-content/uploads/2018/10/Church-Logo2.jpg
END:VEVENT
BEGIN:VEVENT
DTSTART;TZID=America/New_York:20260325T183000
DTEND;TZID=America/New_York:20260325T200000
DTSTAMP:20260425T181931
CREATED:20210701T220943Z
LAST-MODIFIED:20250514T202657Z
UID:10023407-1774463400-1774468800@welcome2wrbc.com
SUMMARY:Men's Ministry Group
DESCRIPTION:Join us as our Men’s Ministry Group gathers on Wednesday  evenings at 6:30PM for a time of prayer\, study\, discipleship\, and fellowship. We are currently reading and discussing the book\, “The Case For The Creator.”
URL:https://welcome2wrbc.com/event/mens-ministry-group-2-2023-04-12/
LOCATION:West Ripley Baptist Church\, 611 West Main St\, Ripley\, WV\, 25271\, United States
ATTACH;FMTTYPE=image/jpeg:https://welcome2wrbc.com/wp-content/uploads/2018/10/Church-Logo2.jpg
END:VEVENT
BEGIN:VEVENT
DTSTART;TZID=America/New_York:20260325T183000
DTEND;TZID=America/New_York:20260325T200000
DTSTAMP:20260425T181931
CREATED:20210701T220943Z
LAST-MODIFIED:20250514T202700Z
UID:10034042-1774463400-1774468800@welcome2wrbc.com
SUMMARY:Men's Ministry Group
DESCRIPTION:Join us as our Men’s Ministry Group gathers on Wednesday  evenings at 6:30PM for a time of prayer\, study\, discipleship\, and fellowship. We are currently reading and discussing the book\, “The Case For The Creator.”
URL:https://welcome2wrbc.com/event/mens-ministry-group-2-2023-11-08/
LOCATION:West Ripley Baptist Church\, 611 West Main St\, Ripley\, WV\, 25271\, United States
ATTACH;FMTTYPE=image/jpeg:https://welcome2wrbc.com/wp-content/uploads/2018/10/Church-Logo2.jpg
END:VEVENT
BEGIN:VEVENT
DTSTART;TZID=America/New_York:20260325T183000
DTEND;TZID=America/New_York:20260325T200000
DTSTAMP:20260425T181931
CREATED:20210701T220943Z
LAST-MODIFIED:20250514T202657Z
UID:10024877-1774463400-1774468800@welcome2wrbc.com
SUMMARY:Men's Ministry Group
DESCRIPTION:Join us as our Men’s Ministry Group gathers on Wednesday  evenings at 6:30PM for a time of prayer\, study\, discipleship\, and fellowship. We are currently reading and discussing the book\, “The Case For The Creator.”
URL:https://welcome2wrbc.com/event/mens-ministry-group-2-2023-05-10/
LOCATION:West Ripley Baptist Church\, 611 West Main St\, Ripley\, WV\, 25271\, United States
ATTACH;FMTTYPE=image/jpeg:https://welcome2wrbc.com/wp-content/uploads/2018/10/Church-Logo2.jpg
END:VEVENT
BEGIN:VEVENT
DTSTART;TZID=America/New_York:20260325T183000
DTEND;TZID=America/New_York:20260325T200000
DTSTAMP:20260425T181931
CREATED:20210701T220943Z
LAST-MODIFIED:20250522T222704Z
UID:10045007-1774463400-1774468800@welcome2wrbc.com
SUMMARY:Men's Ministry Group
DESCRIPTION:Join us as our Men’s Ministry Group gathers on Wednesday  evenings at 6:30PM for a time of prayer\, study\, discipleship\, and fellowship. We are currently reading and discussing the book\, “The Case For The Creator.”
URL:https://welcome2wrbc.com/event/mens-ministry-group-2-2024-07-03/
LOCATION:West Ripley Baptist Church\, 611 West Main St\, Ripley\, WV\, 25271\, United States
ATTACH;FMTTYPE=image/jpeg:https://welcome2wrbc.com/wp-content/uploads/2018/10/Church-Logo2.jpg
END:VEVENT
END:VCALENDAR